BEGIN:VCALENDAR
VERSION:2.0
PRODID:-//Perinetkeller - IODE - ECPv6.15.20//NONSGML v1.0//EN
CALSCALE:GREGORIAN
METHOD:PUBLISH
X-WR-CALNAME:Perinetkeller - IODE
X-ORIGINAL-URL:https://perinetkeller.at
X-WR-CALDESC:Veranstaltungen für Perinetkeller - IODE
REFRESH-INTERVAL;VALUE=DURATION:PT1H
X-Robots-Tag:noindex
X-PUBLISHED-TTL:PT1H
BEGIN:VTIMEZONE
TZID:Europe/Berlin
BEGIN:DAYLIGHT
TZOFFSETFROM:+0100
TZOFFSETTO:+0200
TZNAME:CEST
DTSTART:20250330T010000
END:DAYLIGHT
BEGIN:STANDARD
TZOFFSETFROM:+0200
TZOFFSETTO:+0100
TZNAME:CET
DTSTART:20251026T010000
END:STANDARD
BEGIN:DAYLIGHT
TZOFFSETFROM:+0100
TZOFFSETTO:+0200
TZNAME:CEST
DTSTART:20260329T010000
END:DAYLIGHT
BEGIN:STANDARD
TZOFFSETFROM:+0200
TZOFFSETTO:+0100
TZNAME:CET
DTSTART:20261025T010000
END:STANDARD
BEGIN:DAYLIGHT
TZOFFSETFROM:+0100
TZOFFSETTO:+0200
TZNAME:CEST
DTSTART:20270328T010000
END:DAYLIGHT
BEGIN:STANDARD
TZOFFSETFROM:+0200
TZOFFSETTO:+0100
TZNAME:CET
DTSTART:20271031T010000
END:STANDARD
END:VTIMEZONE
BEGIN:VEVENT
DTSTART;TZID=Europe/Berlin:20260109T190000
DTEND;TZID=Europe/Berlin:20260109T213000
DTSTAMP:20260424T112232
CREATED:20251226T143056Z
LAST-MODIFIED:20251226T144420Z
UID:13285-1767985200-1767994200@perinetkeller.at
SUMMARY:DER BRUDER IM KELLER - "Planet Earth is Blue"
DESCRIPTION:„David Bowie – Erklärungsversuch eines Phänomens in 18 Songs“\n \nDER BRUDER nimmt mit auf eine Zeitreise zwischen die Toren der 1970er- und 1980er-Jahre. Programm ist der Werkkatalog von David Bowie\, der diesen Zeitraum populärkulturell wie kaum ein anderer Künstler gestaltet und weltumfassend geprägt hat. DER BRUDER interpretiert die Songs aus dieser Dekade und setzt sie in einer Moderation mit persönlichen Entwicklungen des Künstlers\, seinen Arbeitsweisen und den gesellschaftlichen Einflüssen dieser Jahre in Zusammenhang – PLANET EARTH IS BLUE… \nDER BRUDER ist ein offenes Bandprojekt von Gitarrist und Sänger Martin Tichy. \nEintritt: Spende \n  \n 
URL:https://perinetkeller.at/event/bruder-im-keller-planet-earth-is-blue/
LOCATION:Perinetkeller\, Perinetgasse 1\, Wien\, 1200\, Österreich
END:VEVENT
END:VCALENDAR