BEGIN:VCALENDAR
VERSION:2.0
PRODID:-//Perinetkeller - IODE - ECPv6.15.20//NONSGML v1.0//EN
CALSCALE:GREGORIAN
METHOD:PUBLISH
X-WR-CALNAME:Perinetkeller - IODE
X-ORIGINAL-URL:https://perinetkeller.at
X-WR-CALDESC:Veranstaltungen für Perinetkeller - IODE
REFRESH-INTERVAL;VALUE=DURATION:PT1H
X-Robots-Tag:noindex
X-PUBLISHED-TTL:PT1H
BEGIN:VTIMEZONE
TZID:Europe/Berlin
BEGIN:DAYLIGHT
TZOFFSETFROM:+0100
TZOFFSETTO:+0200
TZNAME:CEST
DTSTART:20240331T010000
END:DAYLIGHT
BEGIN:STANDARD
TZOFFSETFROM:+0200
TZOFFSETTO:+0100
TZNAME:CET
DTSTART:20241027T010000
END:STANDARD
BEGIN:DAYLIGHT
TZOFFSETFROM:+0100
TZOFFSETTO:+0200
TZNAME:CEST
DTSTART:20250330T010000
END:DAYLIGHT
BEGIN:STANDARD
TZOFFSETFROM:+0200
TZOFFSETTO:+0100
TZNAME:CET
DTSTART:20251026T010000
END:STANDARD
BEGIN:DAYLIGHT
TZOFFSETFROM:+0100
TZOFFSETTO:+0200
TZNAME:CEST
DTSTART:20260329T010000
END:DAYLIGHT
BEGIN:STANDARD
TZOFFSETFROM:+0200
TZOFFSETTO:+0100
TZNAME:CET
DTSTART:20261025T010000
END:STANDARD
END:VTIMEZONE
BEGIN:VEVENT
DTSTART;TZID=Europe/Berlin:20250905T193000
DTEND;TZID=Europe/Berlin:20250905T213000
DTSTAMP:20260424T172256
CREATED:20250807T071352Z
LAST-MODIFIED:20250818T101534Z
UID:13040-1757100600-1757107800@perinetkeller.at
SUMMARY:3 Jahre "Kematen" – das Geburtstagsfest
DESCRIPTION:Kematen – das ist die notwendige karikatur einer zeitung\, deren ironie in diesen tagen auf eine harte probe gestellt wird. die crew rund um den kematen-erfinder HOCHSOMMER (felix mautner\, riki parzer\, katja rainer\, maren rahmann\, heimo wallner\, v.w. wizlsperger u.a.) möchte dich zu einem geburtstagsfest im perinet-keller einladen. \nDas Programm: \nPR- video von maren rahmann. der film zeigt die überlegenheit der tageszeitung kematen im falle eines nordwindes\, der aus sämtlichen himmelsrichtungen in der mariahilferstraße wütet. \nEs folgt die laudatio. eine anmerkung: es erwies sich als außerordentlich schwierig\, lobreder_innen für kematen zu finden. fix zugesagt haben katja rainer und felix mautner. \n(the) Golden Ladies\nstefan sterzinger: quetscht das akkordeon und singt dazu\nw.v.wizlsperger: liest wesentliches und singt ein bisserl\nherr sterzingger singt und spielt wie immer quasi wie noch nie.\nherr wizlsperger bringt unerhörtes aus seinem dramatischen werk zum vortrag.\nbei alledem darf aber auch die liriek nicht zu kurz kommen. \nAlso: 3 jahre kematen \nfreitag\, 5. september\, pünktlich ab 19.30
URL:https://perinetkeller.at/event/3-jahre-kematen-das-geburtstagsfest/
LOCATION:Perinetkeller\, Perinetgasse 1\, Wien\, 1200\, Österreich
ATTACH;FMTTYPE=image/jpeg:https://perinetkeller.at/wp-content/uploads/2018/09/DSC00615.jpg
END:VEVENT
BEGIN:VEVENT
DTSTART;TZID=Europe/Berlin:20250926T193000
DTEND;TZID=Europe/Berlin:20250926T213000
DTSTAMP:20260424T172256
CREATED:20250807T065852Z
LAST-MODIFIED:20250818T101956Z
UID:13037-1758915000-1758922200@perinetkeller.at
SUMMARY:WARHOL BASICS - Koniec Sveta Duo / End of World Duo
DESCRIPTION:Lieder vom Ende der Welt für Altstimme & Cello\nEine Gegenüberstellung von ruthenischen Volksliedern (das waren die Lieder der Kindheit von Andy Warhol) und akustischen Cover-Versionen des 1. Albums von Velvet Underground & Nico\, von Warhol produziert. \nAndy selbst war nie in Ruthenien in der heutigen Ost-Slowakei\, beantwortete die Frage nach der Herkunft seiner Familie immer mit „vom Ende der Welt“ – daher „Koniec Sveta Duo“\, slowakisch für „Duo vom Ende der Welt“ … \n \n 
URL:https://perinetkeller.at/event/warhol-basics-koniec-sveta-duo-end-of-world-duo/
LOCATION:Perinetkeller\, Perinetgasse 1\, Wien\, 1200\, Österreich
END:VEVENT
END:VCALENDAR