BEGIN:VCALENDAR
VERSION:2.0
PRODID:-//Perinetkeller - IODE - ECPv6.15.20//NONSGML v1.0//EN
CALSCALE:GREGORIAN
METHOD:PUBLISH
X-WR-CALNAME:Perinetkeller - IODE
X-ORIGINAL-URL:https://perinetkeller.at
X-WR-CALDESC:Veranstaltungen für Perinetkeller - IODE
REFRESH-INTERVAL;VALUE=DURATION:PT1H
X-Robots-Tag:noindex
X-PUBLISHED-TTL:PT1H
BEGIN:VTIMEZONE
TZID:Europe/Berlin
BEGIN:DAYLIGHT
TZOFFSETFROM:+0100
TZOFFSETTO:+0200
TZNAME:CEST
DTSTART:20220327T010000
END:DAYLIGHT
BEGIN:STANDARD
TZOFFSETFROM:+0200
TZOFFSETTO:+0100
TZNAME:CET
DTSTART:20221030T010000
END:STANDARD
BEGIN:DAYLIGHT
TZOFFSETFROM:+0100
TZOFFSETTO:+0200
TZNAME:CEST
DTSTART:20230326T010000
END:DAYLIGHT
BEGIN:STANDARD
TZOFFSETFROM:+0200
TZOFFSETTO:+0100
TZNAME:CET
DTSTART:20231029T010000
END:STANDARD
BEGIN:DAYLIGHT
TZOFFSETFROM:+0100
TZOFFSETTO:+0200
TZNAME:CEST
DTSTART:20240331T010000
END:DAYLIGHT
BEGIN:STANDARD
TZOFFSETFROM:+0200
TZOFFSETTO:+0100
TZNAME:CET
DTSTART:20241027T010000
END:STANDARD
END:VTIMEZONE
BEGIN:VEVENT
DTSTART;TZID=Europe/Berlin:20231010T193000
DTEND;TZID=Europe/Berlin:20231010T210000
DTSTAMP:20260424T201724
CREATED:20230929T144710Z
LAST-MODIFIED:20230929T144710Z
UID:11147-1696966200-1696971600@perinetkeller.at
SUMMARY:DIE GANZE WAHRHEIT ÜBER DIE  GRUPPE DER WIENER AKTIONISTEN
DESCRIPTION:  \nStatements von Gerhard Oberschlick (letzter Herausgeber der legendären Zeitschrift Neues FORVM; Erinnerungen an den Diabolisten Josef Dworak\, Vormieter des Perinetkellers\, der dann von Otto Muehl übernommen wurde)\, Paul Poet (Regisseur\, Journalist\, Medienwissenschaftler) und Manfred Wasner (Architekt \, arbeitete für Muehls Friedrichshof-Kommune). \nDie Reihe ist von Erich Félix Mautner (Institut ohne direkte Eigenschaften\, IODE) kuratiert. Kontakt: 0664 466 17 25 / erich-felix.mautner@chello.at \n 
URL:https://perinetkeller.at/event/die-ganze-wahrheit-ueber-die-gruppe-der-wiener-aktionisten/
LOCATION:Perinetkeller\, Perinetgasse 1\, Wien\, 1200\, Österreich
END:VEVENT
BEGIN:VEVENT
DTSTART;TZID=Europe/Berlin:20231023T193000
DTEND;TZID=Europe/Berlin:20231023T213000
DTSTAMP:20260424T201724
CREATED:20230929T144900Z
LAST-MODIFIED:20230929T144900Z
UID:11148-1698089400-1698096600@perinetkeller.at
SUMMARY:DIE GANZE WAHRHEIT ÜBER DIE  GRUPPE DER WIENER AKTIONISTEN
DESCRIPTION:Statement von Roman Grabner (Leiter des Bruseum in Graz\, dem Aktionisten Günter Brus gewidmet). \nDie Reihe ist von Erich Félix Mautner (Institut ohne direkte Eigenschaften\, IODE) kuratiert. Kontakt: 0664 466 17 25 / erich-felix.mautner@chello.at
URL:https://perinetkeller.at/event/die-ganze-wahrheit-ueber-die-gruppe-der-wiener-aktionisten-2/
LOCATION:Perinetkeller\, Perinetgasse 1\, Wien\, 1200\, Österreich
END:VEVENT
END:VCALENDAR