BEGIN:VCALENDAR
VERSION:2.0
PRODID:-//Perinetkeller - IODE - ECPv6.15.20//NONSGML v1.0//EN
CALSCALE:GREGORIAN
METHOD:PUBLISH
X-ORIGINAL-URL:https://perinetkeller.at
X-WR-CALDESC:Veranstaltungen für Perinetkeller - IODE
REFRESH-INTERVAL;VALUE=DURATION:PT1H
X-Robots-Tag:noindex
X-PUBLISHED-TTL:PT1H
BEGIN:VTIMEZONE
TZID:Europe/Berlin
BEGIN:DAYLIGHT
TZOFFSETFROM:+0100
TZOFFSETTO:+0200
TZNAME:CEST
DTSTART:20220327T010000
END:DAYLIGHT
BEGIN:STANDARD
TZOFFSETFROM:+0200
TZOFFSETTO:+0100
TZNAME:CET
DTSTART:20221030T010000
END:STANDARD
BEGIN:DAYLIGHT
TZOFFSETFROM:+0100
TZOFFSETTO:+0200
TZNAME:CEST
DTSTART:20230326T010000
END:DAYLIGHT
BEGIN:STANDARD
TZOFFSETFROM:+0200
TZOFFSETTO:+0100
TZNAME:CET
DTSTART:20231029T010000
END:STANDARD
BEGIN:DAYLIGHT
TZOFFSETFROM:+0100
TZOFFSETTO:+0200
TZNAME:CEST
DTSTART:20240331T010000
END:DAYLIGHT
BEGIN:STANDARD
TZOFFSETFROM:+0200
TZOFFSETTO:+0100
TZNAME:CET
DTSTART:20241027T010000
END:STANDARD
END:VTIMEZONE
BEGIN:VEVENT
DTSTART;TZID=Europe/Berlin:20230909T190000
DTEND;TZID=Europe/Berlin:20230909T213000
DTSTAMP:20260424T185010
CREATED:20230814T084440Z
LAST-MODIFIED:20230814T084440Z
UID:11000-1694286000-1694295000@perinetkeller.at
SUMMARY:1 Jahr "KEMATEN" - 1 Fest  im Keller der Aktionisten
DESCRIPTION:Wer auf eine weiße Weste wert legt\, wird mit diesem Medium keine Freude haben. Die Zeitung wird von prima Klebern gemacht und tritt dem Benützer / der Benützerin niemals als Ware entgegen\, immer nur als Geschenk. \n  \nAus dem Programm: \nPräsentation des Kurzvideos (2023)\n„WO KEMADMA HIN WAUNS KEMATEN NED GIBT“\nOder: Die Wahrheit liegt immer im Orkan\nKamera: Marlene Rahmann\nDarstellerin: Maren Rahmann\nTon: Klaus Der Schwimmer Tschabitzer\nIdee: Robert Sommer\nWindstärke: 9 \n*\nWolfgang Koch\nRoll Stilgerechte Literatur. Ein Vortrag. \n*\nW.V. Wizlsperger (Kollegium Kalksburg)\nLesung aus Eigentexten und aus Sommers Blendwerk\n„Ich komm aus der Herz Gegend und meine Muttersprache ist das Herz Klopfen“ \n*\nLive Concert\nTRIO ALBTRIEB TRIO\ndie einzige Wiener Band mit Doppeltriogarantie\nu.a.
URL:https://perinetkeller.at/event/1-jahr-kematen-1-fest-im-keller-der-aktionisten/
LOCATION:Perinetkeller\, Perinetgasse 1\, Wien\, 1200\, Österreich
END:VEVENT
END:VCALENDAR