BEGIN:VCALENDAR
VERSION:2.0
PRODID:-//Perinetkeller - IODE - ECPv6.15.20//NONSGML v1.0//EN
CALSCALE:GREGORIAN
METHOD:PUBLISH
X-ORIGINAL-URL:https://perinetkeller.at
X-WR-CALDESC:Veranstaltungen für Perinetkeller - IODE
REFRESH-INTERVAL;VALUE=DURATION:PT1H
X-Robots-Tag:noindex
X-PUBLISHED-TTL:PT1H
BEGIN:VTIMEZONE
TZID:Europe/Berlin
BEGIN:DAYLIGHT
TZOFFSETFROM:+0100
TZOFFSETTO:+0200
TZNAME:CEST
DTSTART:20220327T010000
END:DAYLIGHT
BEGIN:STANDARD
TZOFFSETFROM:+0200
TZOFFSETTO:+0100
TZNAME:CET
DTSTART:20221030T010000
END:STANDARD
BEGIN:DAYLIGHT
TZOFFSETFROM:+0100
TZOFFSETTO:+0200
TZNAME:CEST
DTSTART:20230326T010000
END:DAYLIGHT
BEGIN:STANDARD
TZOFFSETFROM:+0200
TZOFFSETTO:+0100
TZNAME:CET
DTSTART:20231029T010000
END:STANDARD
BEGIN:DAYLIGHT
TZOFFSETFROM:+0100
TZOFFSETTO:+0200
TZNAME:CEST
DTSTART:20240331T010000
END:DAYLIGHT
BEGIN:STANDARD
TZOFFSETFROM:+0200
TZOFFSETTO:+0100
TZNAME:CET
DTSTART:20241027T010000
END:STANDARD
END:VTIMEZONE
BEGIN:VEVENT
DTSTART;TZID=Europe/Berlin:20230809T193000
DTEND;TZID=Europe/Berlin:20230809T213000
DTSTAMP:20260424T173323
CREATED:20230712T054022Z
LAST-MODIFIED:20230712T062828Z
UID:10822-1691609400-1691616600@perinetkeller.at
SUMMARY:"Was ist denn jetzt das mit dieser Künstlichen Intelligenz?"
DESCRIPTION:Ein performativer Vortrag von Victor Halb\, unterstützt von Videos \n  \n \nBitte wenn möglich einen frisch formatierten USB-Stick mitbringen! \nVictor Halb ist hin- und hergerissen\, fasziniert\, gerät in Panik\, kann es langsam schon nicht mehr hören\, all die Warnungen vor den Gefahren\, all die Beschwichtigungen\, es gebe keine. \nAber er reißt sich am Riemen und im ersten Teil legt er nüchtern dar: Wie funktionieren KIs? Was können sie und was können sie (bisher noch) nicht? Wie wird sich das weiter entwickeln? \nIm zweiten Teil wird dann Science-Fiction geschaut\, Spielfilmausschnitte verschiedenen Alters und verschiedener Güte. Wie realistisch sind die Szenarien? Haben sie jeweils einen wahren Kern? \nDas Fazit im dritten Teil soll hier nicht vorweggenommen werden. Vielleicht könnte es lauten\, dass in nächster Zeit ein Haufen Jobs verloren gehen dürften\, in der kreativen Werbewirtschaft zum Beispiel. Was kein Verlust wäre\, über den groß gejammert werden müsste. Oder vielleicht werden an diesem Abend aber auch noch – wer weiß\, wer weiß? – erste praktische Abwehrmaßnahmen gesetzt\, auf dass die Künstliche Stupidität oder Stupide Intelligenz nicht demnächst die Weltherrschaft ergreift. (Bitte einen frisch formatierten USB-Stick mitbringen!) \nEintritt: Spende
URL:https://perinetkeller.at/event/was-ist-denn-jetzt-das-mit-dieser-kuenstlichen-intelligenz-2/
LOCATION:Perinetkeller\, Perinetgasse 1\, Wien\, 1200\, Österreich
END:VEVENT
BEGIN:VEVENT
DTSTART;TZID=Europe/Berlin:20230825T180000
DTEND;TZID=Europe/Berlin:20230825T210000
DTSTAMP:20260424T173323
CREATED:20230724T101116Z
LAST-MODIFIED:20230724T101116Z
UID:10925-1692986400-1692997200@perinetkeller.at
SUMMARY:Vernissage: „Schwelle“ – eine Ausstellung von Anna Anvidalfarei und Christoph Kaltseis
DESCRIPTION:Heißer August im kühlen Perinetkeller (2/2): \nFreitag\, 25. August 2023\, 18 Uhr\n \nVom spätsommerlich heißen Wien über die Schwelle treten in den kühlen Keller mit der Kunst. \nDie Schwellen zwischen den beiden KünstlerInnen werden gemessen überschritten. \nDie Kunst an den Wänden überschreitet eine weitere Schwelle und ergießt sich in den Raum. \nVon dort wendet sich Jakob Goubran mit seiner Lesung an die Kunst. Sie dankt es ihm und grüßt zurück. \nLive-Musik erklingt. Die Schwelle zum Unbekannten ist längst überschritten. \nEintritt: Spende
URL:https://perinetkeller.at/event/vernissage-schwelle-eine-ausstellung-von-anna-anvidalfarei-und-christoph-kaltseis/
END:VEVENT
END:VCALENDAR