BEGIN:VCALENDAR
VERSION:2.0
PRODID:-//Perinetkeller - IODE - ECPv6.15.20//NONSGML v1.0//EN
CALSCALE:GREGORIAN
METHOD:PUBLISH
X-ORIGINAL-URL:https://perinetkeller.at
X-WR-CALDESC:Veranstaltungen für Perinetkeller - IODE
REFRESH-INTERVAL;VALUE=DURATION:PT1H
X-Robots-Tag:noindex
X-PUBLISHED-TTL:PT1H
BEGIN:VTIMEZONE
TZID:Europe/Berlin
BEGIN:DAYLIGHT
TZOFFSETFROM:+0100
TZOFFSETTO:+0200
TZNAME:CEST
DTSTART:20210328T010000
END:DAYLIGHT
BEGIN:STANDARD
TZOFFSETFROM:+0200
TZOFFSETTO:+0100
TZNAME:CET
DTSTART:20211031T010000
END:STANDARD
BEGIN:DAYLIGHT
TZOFFSETFROM:+0100
TZOFFSETTO:+0200
TZNAME:CEST
DTSTART:20220327T010000
END:DAYLIGHT
BEGIN:STANDARD
TZOFFSETFROM:+0200
TZOFFSETTO:+0100
TZNAME:CET
DTSTART:20221030T010000
END:STANDARD
BEGIN:DAYLIGHT
TZOFFSETFROM:+0100
TZOFFSETTO:+0200
TZNAME:CEST
DTSTART:20230326T010000
END:DAYLIGHT
BEGIN:STANDARD
TZOFFSETFROM:+0200
TZOFFSETTO:+0100
TZNAME:CET
DTSTART:20231029T010000
END:STANDARD
END:VTIMEZONE
BEGIN:VEVENT
DTSTART;TZID=Europe/Berlin:20221222T193000
DTEND;TZID=Europe/Berlin:20221222T213000
DTSTAMP:20260422T190942
CREATED:20221213T115401Z
LAST-MODIFIED:20221213T115401Z
UID:10075-1671737400-1671744600@perinetkeller.at
SUMMARY:"LES LILAS"
DESCRIPTION:Donnerstag\, 22. Dezember 2022\, 19.30 Uhr \n„LES LILAS“ –\n2021 gegründet\, ist das international besetzte Quintett LES LILAS vor\nallem das Zusammentreffen von fünf MusikerInnen\, die von verschiedenen\nHorizonten kommen. \nGleich\, ob ihr Repertoire die amerikanischen Jazz-Standards oder die\nKompositionen von Django Reinhardt wieder aufnimmt\, die Energie bleibt\ndieselbe. \nZum hinreißenden Swing gesellt sich musikalische und kontaktfreudige\nWärme. Erleben Sie das lila Flair der Konzerte – dort\, wo bei den\nJazz-Melodien der Fuß mitschwingt und wo man begeistert auf die Schulter\ndes Nachbarn klopft. \nEintritt: Spende
URL:https://perinetkeller.at/event/les-lilas/
LOCATION:Perinetkeller\, Perinetgasse 1\, Wien\, 1200\, Österreich
END:VEVENT
END:VCALENDAR