BEGIN:VCALENDAR
VERSION:2.0
PRODID:-//Perinetkeller - IODE - ECPv6.15.20//NONSGML v1.0//EN
CALSCALE:GREGORIAN
METHOD:PUBLISH
X-ORIGINAL-URL:https://perinetkeller.at
X-WR-CALDESC:Veranstaltungen für Perinetkeller - IODE
REFRESH-INTERVAL;VALUE=DURATION:PT1H
X-Robots-Tag:noindex
X-PUBLISHED-TTL:PT1H
BEGIN:VTIMEZONE
TZID:Europe/Berlin
BEGIN:DAYLIGHT
TZOFFSETFROM:+0100
TZOFFSETTO:+0200
TZNAME:CEST
DTSTART:20210328T010000
END:DAYLIGHT
BEGIN:STANDARD
TZOFFSETFROM:+0200
TZOFFSETTO:+0100
TZNAME:CET
DTSTART:20211031T010000
END:STANDARD
BEGIN:DAYLIGHT
TZOFFSETFROM:+0100
TZOFFSETTO:+0200
TZNAME:CEST
DTSTART:20220327T010000
END:DAYLIGHT
BEGIN:STANDARD
TZOFFSETFROM:+0200
TZOFFSETTO:+0100
TZNAME:CET
DTSTART:20221030T010000
END:STANDARD
BEGIN:DAYLIGHT
TZOFFSETFROM:+0100
TZOFFSETTO:+0200
TZNAME:CEST
DTSTART:20230326T010000
END:DAYLIGHT
BEGIN:STANDARD
TZOFFSETFROM:+0200
TZOFFSETTO:+0100
TZNAME:CET
DTSTART:20231029T010000
END:STANDARD
END:VTIMEZONE
BEGIN:VEVENT
DTSTART;TZID=Europe/Berlin:20221107T193000
DTEND;TZID=Europe/Berlin:20221107T213000
DTSTAMP:20260422T174205
CREATED:20220902T091937Z
LAST-MODIFIED:20221003T161236Z
UID:9281-1667849400-1667856600@perinetkeller.at
SUMMARY:RECHT LUSTIG!
DESCRIPTION:Mo.\, 7. 11. 2022\, 19.30 Uhr\n„RECHT LUSTIG!“\nMiguel Herz-Kestranek liest aus Akten\, wie Verwaltung und Justiz über Kunst und Kunstschaffende urteilen \nDer Schauspieler und Buchautor Miguel Herz-Kestranek mit Max-Reinhardt-Seminar-Diplom war seit 1971 zuerst auf Bühnen im deutschen Sprachraum und später in mindestens 200 internationalen Fernsehproduktionen und Filmen beteiligt. Seine unverwechselbare Stimme ist fixer Bestandteil der österreichischen Radio- und Fernsehkultur.\nEintritt: Spende
URL:https://perinetkeller.at/event/recht-lustig/
LOCATION:Perinetkeller\, Perinetgasse 1\, Wien\, 1200\, Österreich
END:VEVENT
BEGIN:VEVENT
DTSTART;TZID=Europe/Berlin:20221120T190000
DTEND;TZID=Europe/Berlin:20221120T220000
DTSTAMP:20260422T174205
CREATED:20221105T085357Z
LAST-MODIFIED:20221105T085357Z
UID:9801-1668970800-1668981600@perinetkeller.at
SUMMARY:Lange Nacht des Herzbluts
DESCRIPTION:Einladung zur \nLangen Nacht des Herzbluts \nSonntag\, 20. November\, 19 Uhr\nPerinetkeller\n1200 Wien Perinetgasse1\nAchtung: Eingang hinter dem Baugerüst \nSind kardiologische Neuigkeiten zu berichten? Doch! Der Perinetlkeller\, ehemaliges Atelier der Wiener Aktionisten\, wird zur linken Herzkammer erklärt. Hier tragen die Menschen ihr Herz nicht mehr auf dem rechten Fleck. Zwei künstlerische Positionen gegen die Herzlosigkeit der Verhältnisse verschmelzen in der langen Nacht des Herzblutes zu einer wie bodenständig gewachsenen Kongruenz. Die Protagonisten dieser einander überlappenden Haltungen sind Klaus Tschabitzer und Robert Sommer beziehungweise deren Cliquen\, auch Mischpochen genannt. \nDer Schwimmer\, ein von Klaus Tschabitzer vor 21Jahren gegründetes Bandprojekt\, hat im vergangenen Jahr die Vinylplatte\n«A Heaz» veröffentlicht. Die musikalischen Stationen des steirischen Margaretners klingen wie Himmlherzpointner: Tangoboys\, Scheffenbichler\, Salon Loisitschek und Hirschfiisch (gottlob existiert letzteres noch). Ein Konzert für alle\, die den fulminanten Schwimmer-Auftritt am Volksstimmefest versäumt haben. \nÜber den Umweg des Journalismus kommt Robert Sommer\, Mitbegründer des Augustin\, Wiederbeleber des Perinetkellers und 15 Jahre lang Programmgestalter des Aktionsradius Wien\, zur Literatur. Sein Buch ist weltbekannt in der ganzen Mischpoche: «Ich komme aus der Herzgegend und meine Muttersprache ist das Herzklopfen.» Sein aktuelles Engagement ist auf das Projekt «Kematen\, Eine österreichische Tageszeitung» fokussiert. Kematen steht nicht für einen der Orte dieses Namens\, sondern ist eine Metapher für Österreich. Dennoch werden Abordnungen aus den verschiedenen Kematen erwartet. \nDie Schauspielerin Anne Bennent liest ausgewählte Kapitel aus den Buch\, dessen Autor der Kunstform des fröhlichen Plaglats frönt – wenn er sie nicht überhaupt selber erfunden hat. Christian Schreibmüller beweist die Rap-Tauglichkeit einzelner Passagen. Wolfgang Koch\, Spezialist für Avantgarde-Angelegenheiten\, kommentiert das 830 Seiten umfassenden Oevre. \nEin Kurzvideo zur Zeitung Kematen wird erstmals präsentiert. Darstellerin: Maren Rachmann\, Kamera: Marlene Rahman\, Sound: Klaus Tschabitzer; Idee: Robert Sommer. \n„Der Literarische Zeitvertreib“ Nr. 20 – „Wie Deutschland die WM in Katar ganz knapp nicht gewonnen hat“ wird von Szabolcz Kiss und Victor Halb vorgestellt. Die Blattmacher: „Wir lieben Fußball. Das Herz blutet uns dabei\, wie da jetzt in Katar die\nbesten der besten Fußballer gegeneinander antreten\, in diesem abgrundtiefen Sumpf aus Menschenverachtung und Korruption. Drum haben wir dieses Heft gemacht.
URL:https://perinetkeller.at/event/lange-nacht-des-herzbluts/
LOCATION:Perinetkeller\, Perinetgasse 1\, Wien\, 1200\, Österreich
END:VEVENT
END:VCALENDAR