BEGIN:VCALENDAR
VERSION:2.0
PRODID:-//Perinetkeller - IODE - ECPv6.15.20//NONSGML v1.0//EN
CALSCALE:GREGORIAN
METHOD:PUBLISH
X-ORIGINAL-URL:https://perinetkeller.at
X-WR-CALDESC:Veranstaltungen für Perinetkeller - IODE
REFRESH-INTERVAL;VALUE=DURATION:PT1H
X-Robots-Tag:noindex
X-PUBLISHED-TTL:PT1H
BEGIN:VTIMEZONE
TZID:Europe/Berlin
BEGIN:DAYLIGHT
TZOFFSETFROM:+0100
TZOFFSETTO:+0200
TZNAME:CEST
DTSTART:20210328T010000
END:DAYLIGHT
BEGIN:STANDARD
TZOFFSETFROM:+0200
TZOFFSETTO:+0100
TZNAME:CET
DTSTART:20211031T010000
END:STANDARD
BEGIN:DAYLIGHT
TZOFFSETFROM:+0100
TZOFFSETTO:+0200
TZNAME:CEST
DTSTART:20220327T010000
END:DAYLIGHT
BEGIN:STANDARD
TZOFFSETFROM:+0200
TZOFFSETTO:+0100
TZNAME:CET
DTSTART:20221030T010000
END:STANDARD
BEGIN:DAYLIGHT
TZOFFSETFROM:+0100
TZOFFSETTO:+0200
TZNAME:CEST
DTSTART:20230326T010000
END:DAYLIGHT
BEGIN:STANDARD
TZOFFSETFROM:+0200
TZOFFSETTO:+0100
TZNAME:CET
DTSTART:20231029T010000
END:STANDARD
END:VTIMEZONE
BEGIN:VEVENT
DTSTART;TZID=Europe/Berlin:20221015T193000
DTEND;TZID=Europe/Berlin:20221015T213000
DTSTAMP:20260422T160011
CREATED:20220902T092154Z
LAST-MODIFIED:20220902T092843Z
UID:9285-1665862200-1665869400@perinetkeller.at
SUMMARY:Spilshe Mir A Lidl Vegn Sholem
DESCRIPTION:Sa.\, 15. 10. 2022\, 19.30 Uhr\n„Spilshe Mir A Lidl Vegn Sholem“\nKonzert und Lesung\nEin Wanderschäfer mit Friedensliedern. Der ehemalige Hirte im Unruhestand Hans Breuer und die Musikgruppe WanDeRer spielen alte und neue Anti-Kriegs-Lieder auf jiddisch\, türkisch\, englisch\, französisch und deutsch in Arrangements voll Balkan und Klezmer. Zwischen den Liedern gibt es kurze Auszüge aus veröffentlichten und unveröffentlichten Werken von Rosa und Georg Breuer: Ein Leben für den Frieden – singen und spielen für ein gutes Leben für alle. \nNikola Zaric (A/BA) – Akkordeon mit bosnischem Klang\nEfe Turumtay (TUR) – Fidel mit türkischem Gefühl\nMaria Petrova (BGR) – Perkussion mit bulgarischem Feuer\nHans Breuer (A) – Gesang mit jiddischer Sehnsucht\nEintritt: Spende
URL:https://perinetkeller.at/event/spilshe-mir-a-lidl-vegn-sholem/
LOCATION:Perinetkeller\, Perinetgasse 1\, Wien\, 1200\, Österreich
END:VEVENT
BEGIN:VEVENT
DTSTART;TZID=Europe/Berlin:20221029T193000
DTEND;TZID=Europe/Berlin:20221029T213000
DTSTAMP:20260422T160011
CREATED:20220902T092822Z
LAST-MODIFIED:20220902T092822Z
UID:9287-1667071800-1667079000@perinetkeller.at
SUMMARY:Die Ulis spielen 60 Welthits
DESCRIPTION:Sa.\, 29. 10. 2022\, 19.30 Uhr\n“Die Ulis spielen 60 Welthits“\nDie legendäre Kultcombo mit Nürnberger und Wiener Wurzeln spielt nach fünf Jahren endlich mal wieder in Wien! 60 Welthits aus den Sparten Rock ‘n Roll\, Pop\, Schlager\, Klassik\, Jazz\, und höchstwahrscheinlich trägt auch wieder einer sehr seltsame Gedichte vor. \nÜlrisch Kleidermohn (Piano) – Ullala (Gesang\, Drums) – Uli O. Iglesias\n(Gitarre) – Uli Ungustl (Bass) – Ulrich Heart (Drums\, Gesang) – Uli von\nDroben (Percussion\, Gesang\, Lyrik?) – Uli Jürgenz (Triangel\,\nBackgroundlyrik\, Gesang)\nEintritt: Spende
URL:https://perinetkeller.at/event/die-ulis-spielen-60-welthits/
LOCATION:Perinetkeller\, Perinetgasse 1\, Wien\, 1200\, Österreich
END:VEVENT
END:VCALENDAR