BEGIN:VCALENDAR
VERSION:2.0
PRODID:-//Perinetkeller - IODE - ECPv6.15.20//NONSGML v1.0//EN
CALSCALE:GREGORIAN
METHOD:PUBLISH
X-ORIGINAL-URL:https://perinetkeller.at
X-WR-CALDESC:Veranstaltungen für Perinetkeller - IODE
REFRESH-INTERVAL;VALUE=DURATION:PT1H
X-Robots-Tag:noindex
X-PUBLISHED-TTL:PT1H
BEGIN:VTIMEZONE
TZID:Europe/Berlin
BEGIN:DAYLIGHT
TZOFFSETFROM:+0100
TZOFFSETTO:+0200
TZNAME:CEST
DTSTART:20210328T010000
END:DAYLIGHT
BEGIN:STANDARD
TZOFFSETFROM:+0200
TZOFFSETTO:+0100
TZNAME:CET
DTSTART:20211031T010000
END:STANDARD
BEGIN:DAYLIGHT
TZOFFSETFROM:+0100
TZOFFSETTO:+0200
TZNAME:CEST
DTSTART:20220327T010000
END:DAYLIGHT
BEGIN:STANDARD
TZOFFSETFROM:+0200
TZOFFSETTO:+0100
TZNAME:CET
DTSTART:20221030T010000
END:STANDARD
BEGIN:DAYLIGHT
TZOFFSETFROM:+0100
TZOFFSETTO:+0200
TZNAME:CEST
DTSTART:20230326T010000
END:DAYLIGHT
BEGIN:STANDARD
TZOFFSETFROM:+0200
TZOFFSETTO:+0100
TZNAME:CET
DTSTART:20231029T010000
END:STANDARD
END:VTIMEZONE
BEGIN:VEVENT
DTSTART;TZID=Europe/Berlin:20220921T193000
DTEND;TZID=Europe/Berlin:20220921T213000
DTSTAMP:20260422T143130
CREATED:20220902T091828Z
LAST-MODIFIED:20220902T092915Z
UID:9279-1663788600-1663795800@perinetkeller.at
SUMMARY:Die ganze Wahrheit über die Wiener Aktionisten (neue Folge)
DESCRIPTION:Mittwoch\, 21. September 2022\, 19.30 Uhr:\n „Die ganze Wahrheit über die Wiener Aktionisten“ (neue Folge)\nEin Podiumsgespräch mit Christian Resch \nIng. Christian Resch hat als ehemaliger Bürgermeister von Mistelbach das Nitsch-Museum zusammen mit dem Anfang des Jahres verstorbenen Künstler geplant und umgesetzt. Aber bis es zu dem heutigen „Museumszentrum von internationaler Strahlkraft“ kam\, (wie es z. B. Sein Nachfolger im Bürgermeisteramt ausdrückte\,) war das keine leichte Aufgabe gewesen. Die Idee musste gegen viel anfängliches Misstrauen in der Gemeinde durchgesetzt werden.
URL:https://perinetkeller.at/event/die-ganze-wahrheit-ueber-die-wiener-aktionisten-neue-folge/
LOCATION:Perinetkeller\, Perinetgasse 1\, Wien\, 1200\, Österreich
END:VEVENT
END:VCALENDAR