BEGIN:VCALENDAR
VERSION:2.0
PRODID:-//Perinetkeller - IODE - ECPv6.15.20//NONSGML v1.0//EN
CALSCALE:GREGORIAN
METHOD:PUBLISH
X-WR-CALNAME:Perinetkeller - IODE
X-ORIGINAL-URL:https://perinetkeller.at
X-WR-CALDESC:Veranstaltungen für Perinetkeller - IODE
REFRESH-INTERVAL;VALUE=DURATION:PT1H
X-Robots-Tag:noindex
X-PUBLISHED-TTL:PT1H
BEGIN:VTIMEZONE
TZID:Europe/Berlin
BEGIN:DAYLIGHT
TZOFFSETFROM:+0100
TZOFFSETTO:+0200
TZNAME:CEST
DTSTART:20200329T010000
END:DAYLIGHT
BEGIN:STANDARD
TZOFFSETFROM:+0200
TZOFFSETTO:+0100
TZNAME:CET
DTSTART:20201025T010000
END:STANDARD
BEGIN:DAYLIGHT
TZOFFSETFROM:+0100
TZOFFSETTO:+0200
TZNAME:CEST
DTSTART:20210328T010000
END:DAYLIGHT
BEGIN:STANDARD
TZOFFSETFROM:+0200
TZOFFSETTO:+0100
TZNAME:CET
DTSTART:20211031T010000
END:STANDARD
BEGIN:DAYLIGHT
TZOFFSETFROM:+0100
TZOFFSETTO:+0200
TZNAME:CEST
DTSTART:20220327T010000
END:DAYLIGHT
BEGIN:STANDARD
TZOFFSETFROM:+0200
TZOFFSETTO:+0100
TZNAME:CET
DTSTART:20221030T010000
END:STANDARD
END:VTIMEZONE
BEGIN:VEVENT
DTSTART;TZID=Europe/Berlin:20211110T193000
DTEND;TZID=Europe/Berlin:20211110T213000
DTSTAMP:20260423T001025
CREATED:20211017T133417Z
LAST-MODIFIED:20211017T133417Z
UID:8019-1636572600-1636579800@perinetkeller.at
SUMMARY:Gedenken an Ferry Radax
DESCRIPTION:Mit zwei seiner Filme\, „Sonne Halt“\, dem wichtigsten\, und „Testament“\, dem am wenigsten beachteten. Radax starb am 9. September 2021 im Künstlerheim in Baden bei Wien. Ferry Radax wurde in Wien zum Sängerknaben ausgebildet. 1951 begann er\, sich mit allen Bereichen des Films vertraut zu machen\, zuerst als Assistent\, dann als Drehbuchautor\, Kameramann\, Cutter\, Regisseur und auch als Produzent. Laufende Filmarbeiten führten ihn zudem in alle Kontinente. In den 1960er Jahren zählte er zum Kreis der bekanntesten Avantgardefilmer Europas.“Sonne halt!“ (1959/1962)\, ein poetisch gebrochener Teenager-Film mit Konrad Bayer\, Ingrid Schuppan und Albert Jolly\, wird im Keller im Anschluss an „Testament“ präsentiert Der Dialog wird nur von Bayer gesprochen\, wobei\, wie Paul Kruntorad schrieb\, die Dialekttexte einer Wiener Beatnikfigur abgehorcht sind\, der hochdeutsche Text hingegen zum literarischen Œuvre von Konrad Bayer zählt. Radax` weitere Arbeiten beziehen sich u.a. auf die Literatur H.C.Artmanns\, Thomas Bernhards\, Hundertwassers und Joyce. Das Wiener Filmmuseum stellte 1993 einen Monat lang Ferry Radax‘ Filme vor. Das Filmfestival Diagonale widmete Radax 2012 eine Personale.
URL:https://perinetkeller.at/event/gedenken-an-ferry-radax/
LOCATION:Perinetkeller\, Perinetgasse 1\, Wien\, 1200\, Österreich
END:VEVENT
END:VCALENDAR