BEGIN:VCALENDAR
VERSION:2.0
PRODID:-//Perinetkeller - IODE - ECPv6.15.20//NONSGML v1.0//EN
CALSCALE:GREGORIAN
METHOD:PUBLISH
X-ORIGINAL-URL:https://perinetkeller.at
X-WR-CALDESC:Veranstaltungen für Perinetkeller - IODE
REFRESH-INTERVAL;VALUE=DURATION:PT1H
X-Robots-Tag:noindex
X-PUBLISHED-TTL:PT1H
BEGIN:VTIMEZONE
TZID:Europe/Berlin
BEGIN:DAYLIGHT
TZOFFSETFROM:+0100
TZOFFSETTO:+0200
TZNAME:CEST
DTSTART:20200329T010000
END:DAYLIGHT
BEGIN:STANDARD
TZOFFSETFROM:+0200
TZOFFSETTO:+0100
TZNAME:CET
DTSTART:20201025T010000
END:STANDARD
BEGIN:DAYLIGHT
TZOFFSETFROM:+0100
TZOFFSETTO:+0200
TZNAME:CEST
DTSTART:20210328T010000
END:DAYLIGHT
BEGIN:STANDARD
TZOFFSETFROM:+0200
TZOFFSETTO:+0100
TZNAME:CET
DTSTART:20211031T010000
END:STANDARD
BEGIN:DAYLIGHT
TZOFFSETFROM:+0100
TZOFFSETTO:+0200
TZNAME:CEST
DTSTART:20220327T010000
END:DAYLIGHT
BEGIN:STANDARD
TZOFFSETFROM:+0200
TZOFFSETTO:+0100
TZNAME:CET
DTSTART:20221030T010000
END:STANDARD
END:VTIMEZONE
BEGIN:VEVENT
DTSTART;TZID=Europe/Berlin:20211010T100000
DTEND;TZID=Europe/Berlin:20211010T170000
DTSTAMP:20260423T012015
CREATED:20210927T131556Z
LAST-MODIFIED:20210927T131638Z
UID:8006-1633860000-1633885200@perinetkeller.at
SUMMARY:Weiße Türen\, weiße Fenster
DESCRIPTION:Wohnungslose Frauen schaffen sich Raum. Renate A.\, Jana W. und Carmen P. sind die Protagonistinnen von in diesem Jahr entstandenen Kurzfilmen. Die drei eint ihr selbstbewusstes\, klares Auftreten\, mit dem sie ihre Erfahrungen teilen. Alle drei wissen\, was Wohnungslosigkeit bedeutet: Renate hatte ihren Lebens- und Arbeitsmittelpunkt im Prater\, wo sie als Tagelöhnerin arbeitete und sich in der Nacht einen geschützten\, aber nicht einsamen Schlafplatz suchen musste. Jana weiß von der Erfahrung zu erzählen\, die viele Frauen machen\, denen eine eigene Wohnung fehlt – sie gehen eine Beziehung mit einem Mann an\, der ihnen Unterkunft bieten kann\, daraus resultiert ein starkes\, oft gewaltbesetztes Macht-Ungleichgewicht. Carmen kennt die Einrichtungen\, die die Stadt Obdachlosen bietet. Ihr Ausweg aus dem psychischen Stress\, der sich daraus ergibt\, keinen eigenen Platz zu haben\, war immer schon die Kreativität.\nDie Idee\, mit den drei Frauen Filme zu machen\, stammt von Regina Amer. Nach ihrer eigenen Erfahrung mit Wohnungslosigkeit hat sie sich dem Netzwerk HOPE (Homeless in Europe) angeschlossen. Sie und die Filmschaffenden Gabriela Markovic\, Victor Kössl und Lisbeth Kovačič entwickelten gemeinsam mit den Protagonistinnen die Filme. Dazu gibt es die Möglichkeit\, bei einem Brunch mit Musik am Gaußplatz mit Renate\, Jana und Carmen ins Gespräch zu kommen oder beim Speakers Corner über das Thema Wohnungslose Frauen teilzunehmen.\nAb 10:00 Filmprogramm im Perinetkeller mit Renate\, Jana\, Carmen. Ab 10:00 Parallelprogramm am Gaußplatz: Brunch mit Straßenmusik.\nEintritt: Freie Spende\nDer Reinerlös der Veranstaltung kommt den wohnungslosen Frauen zugute.
URL:https://perinetkeller.at/event/weisse-tueren-weisse-fenster/
LOCATION:Gaußplatz 11\, Gaußplatz 11\, Wien\, 1200\, Österreich
END:VEVENT
BEGIN:VEVENT
DTSTART;TZID=Europe/Berlin:20211016T193000
DTEND;TZID=Europe/Berlin:20211016T213000
DTSTAMP:20260423T012015
CREATED:20210927T131819Z
LAST-MODIFIED:20210927T131819Z
UID:8008-1634412600-1634419800@perinetkeller.at
SUMMARY:And always die Liebe im Knopfloch meines Mantels
DESCRIPTION:Sa 16.10. 19:30. «». Die Berliner Writers Damen Maria A. Druckenthaner und Felicitas Jacobs spinnen ein Netz von Lyrik und Geschichten aus dem Berliner Stadtleben\, ziehen fiktionale und dokumentarische Fäden zwischen alltäglichen Überraschungen und Liebesglück\, Lauschangriffen in der S-Bahn\, Verfolgungsjagden und bizarren Partys. Erzählen vom Drama der kleinen Dinge und der Komödie der Sehnsucht. Felicitas Jacobs\, Rheinländerin\, seit 1975 in Berlin. Kam nie mehr von dort weg. Theaterpädagogin\, Regisseurin\, ständig Schreibende\, geboren in der 50ern\, artig in den 60ern\, frech in den 70ern\, mutig in den 80ern\, familiär in den 90ern – und wieder von vorne. Liebhaberin der kleinen Form und Schreiberin von Alltagsgeschichten aus der großen Stadt\, zum laut und leise Lesen. Maria A. Druckenthaner\, gebürtige Österreicherin\, lebt seit 1986 in ihrer Wahlheimat Berlin. Schreibend zuhause in der Dichtung und im Sprachexperiment seit den frühen 80ern. In dieser Zeit auch die ersten Veröffentlichungen und Kollaborationen mit Musiker*nnen und Künstler*nnen. Nach einer literarischen Schaffenspause dichtend wieder zurück mit dem Projekt Writers Damen
URL:https://perinetkeller.at/event/and-always-die-liebe-im-knopfloch-meines-mantels-2/
LOCATION:Perinetkeller\, Perinetgasse 1\, Wien\, 1200\, Österreich
END:VEVENT
END:VCALENDAR