BEGIN:VCALENDAR
VERSION:2.0
PRODID:-//Perinetkeller - IODE - ECPv6.15.20//NONSGML v1.0//EN
CALSCALE:GREGORIAN
METHOD:PUBLISH
X-ORIGINAL-URL:https://perinetkeller.at
X-WR-CALDESC:Veranstaltungen für Perinetkeller - IODE
REFRESH-INTERVAL;VALUE=DURATION:PT1H
X-Robots-Tag:noindex
X-PUBLISHED-TTL:PT1H
BEGIN:VTIMEZONE
TZID:Europe/Berlin
BEGIN:DAYLIGHT
TZOFFSETFROM:+0100
TZOFFSETTO:+0200
TZNAME:CEST
DTSTART:20200329T010000
END:DAYLIGHT
BEGIN:STANDARD
TZOFFSETFROM:+0200
TZOFFSETTO:+0100
TZNAME:CET
DTSTART:20201025T010000
END:STANDARD
BEGIN:DAYLIGHT
TZOFFSETFROM:+0100
TZOFFSETTO:+0200
TZNAME:CEST
DTSTART:20210328T010000
END:DAYLIGHT
BEGIN:STANDARD
TZOFFSETFROM:+0200
TZOFFSETTO:+0100
TZNAME:CET
DTSTART:20211031T010000
END:STANDARD
BEGIN:DAYLIGHT
TZOFFSETFROM:+0100
TZOFFSETTO:+0200
TZNAME:CEST
DTSTART:20220327T010000
END:DAYLIGHT
BEGIN:STANDARD
TZOFFSETFROM:+0200
TZOFFSETTO:+0100
TZNAME:CET
DTSTART:20221030T010000
END:STANDARD
END:VTIMEZONE
BEGIN:VEVENT
DTSTART;TZID=Europe/Berlin:20210902T193000
DTEND;TZID=Europe/Berlin:20210902T213000
DTSTAMP:20260422T235452
CREATED:20210720T215334Z
LAST-MODIFIED:20210820T163933Z
UID:7706-1630611000-1630618200@perinetkeller.at
SUMMARY:«Musikarbeiter unterwegs»
DESCRIPTION:«Musikarbeiter unterwegs». Das Buch – Eine launige Finisage mit Lesung und Musik. Im Juni 2021 waren es 16 Jahre\, dass Mario Lang\, als Lichteinfänger vulgo Fotograf und Rainer Krispel als Texter in der Zeitung Augustin ihre Musikreportagen veröffentlichen. Über 70 davon sind in dem Buch MUSIKARBEITER UNTERWEGS 2005 bis 2020\, erschienen im März 2020 bei Zeuys Books (zeuys.com) zusammengefasst\, eine Art alternatives Stadtgeschichte-Musik-Buch. Wegen Pandemie fielen diverse geplante orgiastische Buch-Präsentationen unter den Tisch\, auch eine im verehrungswürdigen Perinetkeller\, das Buch erfuhr auch ohne diese viel wunderbares Feedback und Wertschätzung. Was Grund genug ist\, das Buch und das alles noch einmal ordentlich zu feiern.\nKrispel liest (kurz)\, singt mit FREILICH 3\, mit SIBYLLE KEFER (Gitarre\, Stimme) und GOTTFRIED GFRERER (Gitarre\, Stimme). MARIO LANG spielt mit HIRN MIT EI und als special guest begrüssen wir KENT NIELSEN (DK) – Ukulele Folk Punk / Singer/Songwriter!\nKent Nielsen ist Däne\, wohnt in Lübeck und hat schon einiges ausprobiert: Autor\, Waschbrettspieler\, Schuhverkäufer\, Label Manager\, Mailorderinhaber und Ukulele Spieler. Doch eines war er jedoch immer\, Sänger. ‚Shotgun Seat DJ‘ ist sein erstes Solo Album mit Roots Rock gefärbten Songs.\nwww.facebook.com/kentnielsenofficial/ \nEs wird auf jeden Fall schön und feierlich und mit Ihnen dabei gewiss ein Wahnsinn. \n(Finisage (sic!) übrigens deswegen\, weil die Mitbewohnerin eines Beteiligten mittlerweile den Ehrennamen „Fini“ trägt und sehr mag\, was im einzelnen zu erklären jetzt viel zu weit führen würde. Aber nix Ende oder Abschluß\, weil ein Buch geht ja eigentlich nicht zu Ende\, was als Gedanke auch viel zu weit führt. Aber lässig.)
URL:https://perinetkeller.at/event/musikarbeiter-unterwegs-3/
LOCATION:Perinetkeller\, Perinetgasse 1\, Wien\, 1200\, Österreich
END:VEVENT
BEGIN:VEVENT
DTSTART;TZID=Europe/Berlin:20210904T120000
DTEND;TZID=Europe/Berlin:20210905T000000
DTSTAMP:20260422T235452
CREATED:20210720T215623Z
LAST-MODIFIED:20210720T215651Z
UID:7708-1630756800-1630800000@perinetkeller.at
SUMMARY:Ich komm aus der Herzgegend und meine Muttersprache ist das Herzklopfen
DESCRIPTION:Sa 4.9. und SO 5.9. Ein Blendwerk von Robert Sommer\, in vier Teil-Präsentationen vorgestellt im Rahmen des Volksstimmefestes\, wegen Kanonisierungsgefahr mit einem Umfang von 900 Seiten ausgestattet sowie unter einem disparaten Titel veröffentlicht\, der jeder Kategorisierungslogik fremd ist: «Ich komm aus der Herzgegend und meine Muttersprache ist das Herzklopfen». Schauspielerinnen lesen aus dem Buch. \nTermine: Sa 12 Uhr und 24 Uhr\, So 12 Uhr und 24 Uhr\, jeweils beim Stand der KPÖ-Frauen unter den schattigsten Bäumen des Festes. Robert Sommer ist Gründer des Augustin und Wiederbeleber des Aktionisten-Ateliers Perinetkeller.
URL:https://perinetkeller.at/event/ich-komm-aus-der-herzgegend-und-meine-muttersprache-ist-das-herzklopfen/
END:VEVENT
BEGIN:VEVENT
DTSTART;TZID=Europe/Berlin:20210914T193000
DTEND;TZID=Europe/Berlin:20210914T213000
DTSTAMP:20260422T235452
CREATED:20210908T153839Z
LAST-MODIFIED:20210908T154843Z
UID:7922-1631647800-1631655000@perinetkeller.at
SUMMARY:LETZTE LOCKERUNG. EIN DADAMANIFEST
DESCRIPTION:Anne Bennent\, Otto Lechner Lechner\, Bastian Wilplinger:\nLETZTE LOCKERUNG. EIN DADAMANIFEST  \nZeichnung: walter-serner.de\nDas Wort Anlass ist im Perinetkeller unbekannt. Aus diesem Anlass hat das Institut ohne direkte Eigenschaften das Jahr 2023 zum Walter Serner-Jahr erklärt. Es passt sich niemanden an\, ausgenommen der Autorität des Dadaismus. Die Waren schaffenden Dadaismus-Kollegen\, mithin die Wahren\, haben Walter Serner als den Größenwahnsinnigsten unter dem Dada-Dach beneidet. Bevor wir etwas von einem Serner-Jahr wahrgenommen haben\, ist es zu Ende. Niemand hat uns einen Anlass nennen können. Also Anlass genug für die Schauspielerin Anne Bennent\, sich Walter Serners 1920 veröffentlichtes Manifest LETZTE LOCKERUNG wieder anzueignen. Hatte er doch Sätze geschrieben wie «Es ist allgemein bekannt\, dass ein Hund keine Hängematte ist; weniger\, dass ohne diese zarte Hypothese Malern die Schmierfaust herunterfiele; und überhaupt nicht\, dass Interjektionen am treffendsten sind: Weltanschauungen und Vokabelmischungen». Hätte Serner solche Sätze nie vorgetragen\, wäre er 1919 nicht von der Bühne einer Dada-Soiree in Zürich vertrieben worden. Wer verjagt die Bennent eigentlich. Sie kommt sogar mit Anhang\, um bei dieser passenden Gelegenheit die lange Nacht des Dadaimus zu feiern. Zumindest das lange Jahr desselben. Übrigens\, hätten die bolschewistischen Anlassverwalter passende Gelegenheiten als Gelegenheiten\, die passen\, erkannt\, hätte dieses Wissen nicht nur in die künstlerische\, sondern auch in die soziale Revolution geführt.
URL:https://perinetkeller.at/event/letzte-lockerung-ein-dadamanifest/
LOCATION:Perinetkeller\, Perinetgasse 1\, Wien\, 1200\, Österreich
END:VEVENT
END:VCALENDAR