BEGIN:VCALENDAR
VERSION:2.0
PRODID:-//Perinetkeller - IODE - ECPv6.15.20//NONSGML v1.0//EN
CALSCALE:GREGORIAN
METHOD:PUBLISH
X-ORIGINAL-URL:https://perinetkeller.at
X-WR-CALDESC:Veranstaltungen für Perinetkeller - IODE
REFRESH-INTERVAL;VALUE=DURATION:PT1H
X-Robots-Tag:noindex
X-PUBLISHED-TTL:PT1H
BEGIN:VTIMEZONE
TZID:Europe/Berlin
BEGIN:DAYLIGHT
TZOFFSETFROM:+0100
TZOFFSETTO:+0200
TZNAME:CEST
DTSTART:20200329T010000
END:DAYLIGHT
BEGIN:STANDARD
TZOFFSETFROM:+0200
TZOFFSETTO:+0100
TZNAME:CET
DTSTART:20201025T010000
END:STANDARD
BEGIN:DAYLIGHT
TZOFFSETFROM:+0100
TZOFFSETTO:+0200
TZNAME:CEST
DTSTART:20210328T010000
END:DAYLIGHT
BEGIN:STANDARD
TZOFFSETFROM:+0200
TZOFFSETTO:+0100
TZNAME:CET
DTSTART:20211031T010000
END:STANDARD
BEGIN:DAYLIGHT
TZOFFSETFROM:+0100
TZOFFSETTO:+0200
TZNAME:CEST
DTSTART:20220327T010000
END:DAYLIGHT
BEGIN:STANDARD
TZOFFSETFROM:+0200
TZOFFSETTO:+0100
TZNAME:CET
DTSTART:20221030T010000
END:STANDARD
END:VTIMEZONE
BEGIN:VEVENT
DTSTART;TZID=Europe/Berlin:20210529T193000
DTEND;TZID=Europe/Berlin:20210529T213000
DTSTAMP:20260422T182137
CREATED:20210517T084254Z
LAST-MODIFIED:20210521T161128Z
UID:7535-1622316600-1622323800@perinetkeller.at
SUMMARY:VERFALLSLABOR - FINISSAGE
DESCRIPTION:SA.\, 29. MAI\, 19.30 UHR\nDer Verfall von seiner schönsten Seite. Ein Sonnenaufgang in Echtzeit. Livemusik. Kaltes Buffet. (Anmeldung erforderlich; s. u.) \nSeit Mitte März betreibt Halbs Mini-Museum im Perinetkeller die „Dependance Verfallslabor“. In zahlreichen Videos konnte man der Installation beim Wachsen und verschiedensten integrierten Materialien beim Verfallen zuschauen. \nDie erste Woche: Der Verfall beginnt:  \n \nDie zweite Woche: Der Verfall ging weiter: \n \nDie dritte Woche: Im Verfallslabor spielte es (fast) alle Stückeln … \n \nUnd immer noch mehr Tagesvideos:\nTag 22: Politik \n \nTag 23: Kontrolle \n \nTag 24: Anamorphose \n \nTag 25: Feinjustierung \n \nTag 26: Flora\n \nTag 27: Aufwertung\n \nTag 28: Wissenszweig\n \nSo geht die Installation nun bald ihrer Vervollständigung und Vollendung entgegen. Ein paar wenige Videos fehlen noch\, und dann aber … \nAM SA.\, 29. MAI\, AB 19.30 UHR: FINISSAGE!\nMit noch zwei\, drei weiteren „Tagesvideos“\, live performt\, in analoger Form. Volksabstimmung: Schmeißen wir das Zeug jetzt in den Donaukanal? Live-Musik. Kaltes Buffet. (Besonders auch wegen letzterem bitte eine ANMELDUNG an info@victorhalb.at) Wir bitten um einen verantwortlichen Umgang mit … \neh scho wissen: Bitte nur GENESEN\, GEIMPFT ODER GETESTET zu der Veranstaltung kommen. \n 
URL:https://perinetkeller.at/event/verfallslabor-finissage/
LOCATION:Perinetkeller\, Perinetgasse 1\, Wien\, 1200\, Österreich
END:VEVENT
END:VCALENDAR