BEGIN:VCALENDAR
VERSION:2.0
PRODID:-//Perinetkeller - IODE - ECPv6.15.20//NONSGML v1.0//EN
CALSCALE:GREGORIAN
METHOD:PUBLISH
X-WR-CALNAME:Perinetkeller - IODE
X-ORIGINAL-URL:https://perinetkeller.at
X-WR-CALDESC:Veranstaltungen für Perinetkeller - IODE
REFRESH-INTERVAL;VALUE=DURATION:PT1H
X-Robots-Tag:noindex
X-PUBLISHED-TTL:PT1H
BEGIN:VTIMEZONE
TZID:Europe/Berlin
BEGIN:DAYLIGHT
TZOFFSETFROM:+0100
TZOFFSETTO:+0200
TZNAME:CEST
DTSTART:20190331T010000
END:DAYLIGHT
BEGIN:STANDARD
TZOFFSETFROM:+0200
TZOFFSETTO:+0100
TZNAME:CET
DTSTART:20191027T010000
END:STANDARD
BEGIN:DAYLIGHT
TZOFFSETFROM:+0100
TZOFFSETTO:+0200
TZNAME:CEST
DTSTART:20200329T010000
END:DAYLIGHT
BEGIN:STANDARD
TZOFFSETFROM:+0200
TZOFFSETTO:+0100
TZNAME:CET
DTSTART:20201025T010000
END:STANDARD
BEGIN:DAYLIGHT
TZOFFSETFROM:+0100
TZOFFSETTO:+0200
TZNAME:CEST
DTSTART:20210328T010000
END:DAYLIGHT
BEGIN:STANDARD
TZOFFSETFROM:+0200
TZOFFSETTO:+0100
TZNAME:CET
DTSTART:20211031T010000
END:STANDARD
END:VTIMEZONE
BEGIN:VEVENT
DTSTART;TZID=Europe/Berlin:20201006T193000
DTEND;TZID=Europe/Berlin:20201006T213000
DTSTAMP:20260422T135047
CREATED:20200919T105638Z
LAST-MODIFIED:20201006T021405Z
UID:5543-1602012600-1602019800@perinetkeller.at
SUMMARY:ÜBERLEBEN IST MACHBAR
DESCRIPTION:Video Conference um das BGE für die Kunstberufe (nachdem beinahe alle Kunstberufe ohne Pandemie-Hilfen mit Berufsverbot belegt wurden). \nUhrzeit: 6. Okt. 2020 07:00 PM Amsterdam\, Berlin\, Rom\, Stockholm\, Wien\nZoom-Meeting beitreten \nhttps://us02web.zoom.us/j/6180759143?pwd=WWVlODBldVBUUERIUkNPS2c4U0xudz09 \nMeeting-ID: 618 075 9143\nKenncode: phnLe1 \nExpertenrunde/Diskussion zur Forderung eines bedingungslosen Grundeinkommens für Kunstschaffende (i.a.R.) \nThomas Drozda\nU.A. 10.07.1999 – 16.10.2008 Geschäftsführer der Burgtheater GmbH\, 2008–2016 Generaldirektor der Vereinigten Bühnen Wien\, 25.05.2016 – 18.12.2017 Bundesminister für Kunst und Kultur\, Verfassung und Medien im Bundeskanzleramt\, Präsidentin-Stv. der Österreichischen Gesellschaft für Kulturpolitik\, Abgeordneter zum Nationalrat\, Bereichssprecher für Kunst\, Kultur und Medien\, seit 1991 Geschäftsführer des Trotzdem-Verlags. Drozda ist der erste österreichische Kunst-Politiker\, der immer wieder das Grundeinkommen für KünstlerInnen fordert. \nErwin Jerusalem\nwar Geschäftsführer mehrerer größerer Dienstleistungsbetriebe im Zahlungsverkehr\, nun bildender Künstler\, hatte für das Liberale Forum die Forderungen nach dem Grundeinkommen formuliert und berechnet. 1) \nKarl Reitter\nLektor für Sozialphilosophie an der Universität Wien\, an der Alpen-Adria Universität Klagenfurt für das Fach Philosophie habilitiert\, 2019 Ehrenmitglied der BAG Grundeinkommen der Partei „Die LINKE“\, schreibt und argumentiert das bedingungslose Grundeinkommen. 2) \nKlaus Sambor\nseit 2004 Koordinator von Attac für Grundeinkommen\, Mitglied von „Runder Tisch für bedingungsloses Grundeinkommen“\, „Network Basic Income and Social Cohesion“ und Board Member „Initiative Civil Society“\, koordiniert die Debatten und Gruppen für RTGA. \nChristiane Varga\nSoziologin\, Germanistin\, Autorin\, Referentin\, Trend- und Zukunftsforscherin\, beschäftigt sich mit den vielen unterschiedlichen Facetten der Frage „Wie leben und arbeiten wir in Zukunft“\, 2012-2017 im Think Tank des Wiener Zukunftsinstituts. \nDAS EXPERTENGESPRÄCH WIRD CORONAHALBEN VOM THEATER-VARIETE VINDOBONA (Wien 20\, Wallensteinplatz 6\, ganz in der Nähe des Perinetkellers) ÜBERTRAGEN. ANMELDUNG BITTE UNBEDINGT SO SCHNELL WIE MÖGLICH PER MAIL AN brus.day@chello.at!!! \nDiese Diskussion wird von Erich Félix Mautner kuratiert\, M 0664 466 17 25\, T+F 01 815 05 54\, E erich-felix.mautner@chello.at.
URL:https://perinetkeller.at/event/ueberleben-ist-machbar/
LOCATION:Vindobona\, Wallensteinplatz 6\, Wien\, Wien\, 1020\, Österreich
END:VEVENT
BEGIN:VEVENT
DTSTART;TZID=Europe/Berlin:20201022T193000
DTEND;TZID=Europe/Berlin:20201022T220000
DTSTAMP:20260422T135047
CREATED:20200919T110411Z
LAST-MODIFIED:20201014T002324Z
UID:5550-1603395000-1603404000@perinetkeller.at
SUMMARY:Wien\, Ort des Möglichen
DESCRIPTION:Eine Kooperation zwischen Gleis 21 / Änderungssalon und Perinetkeller. Inspirierende Beispiele aus europäischen Städten wie Barcelona zeigen\, wie Stadtentwicklung in Zeiten der Klimakrise aussehen kann. Die Pariser Bürgermeisterin Anne Hidalgo formuliert es so: «Asphalt überall dort zu beseitigen\, wo es möglich ist\, erlaubt der Stadt nicht nur\, tief durchzuatmen\, sondern verleiht ihr auch einen neuen Atem« Ort: Gleis21\, Holzhaus am Helmut Zilk-Park\, Sonnwendviertel.
URL:https://perinetkeller.at/event/wien-ort-des-moeglichen/
LOCATION:Perinetkeller\, Perinetgasse 1\, Wien\, 1200\, Österreich
END:VEVENT
BEGIN:VEVENT
DTSTART;TZID=Europe/Berlin:20201024T193000
DTEND;TZID=Europe/Berlin:20201024T213000
DTSTAMP:20260422T135047
CREATED:20200919T110714Z
LAST-MODIFIED:20200919T110714Z
UID:5553-1603567800-1603575000@perinetkeller.at
SUMMARY:Top 10 Lockdown 20
DESCRIPTION:Vernissage\, Musikperformance. Als die Stadt in die Stille sank und der Himmel sein tiefdunkles Blau der Unendlichkeit zeigte\, konnte man sich entweder der Angst vor dem lebensbedrohlichen Virus hingeben oder der Seelenbaumelei\, dem Spiel mit den Musen. Ulli Gladik (Öl\, Aquarell) und Martin Tichy (Gitarre\, Loops) wählten zweiteres. Sie tauchte in die Welt der Formen und Farben\, er versank in Rhythmen\, Sounds und Harmonien.
URL:https://perinetkeller.at/event/top-10-lockdown-20/
LOCATION:Perinetkeller\, Perinetgasse 1\, Wien\, 1200\, Österreich
END:VEVENT
BEGIN:VEVENT
DTSTART;TZID=Europe/Berlin:20201027T193000
DTEND;TZID=Europe/Berlin:20201027T213000
DTSTAMP:20260422T135047
CREATED:20200919T110925Z
LAST-MODIFIED:20200919T110925Z
UID:5556-1603827000-1603834200@perinetkeller.at
SUMMARY:Stalin\, Sex und Kalte Kriege
DESCRIPTION:Karl Wiesinger (1923 – 91)\, Linzer Schriftsteller und KP-Aktivist\, Widerständler unterm NS-Regime\, später Kellertheatermacher\, Romancier ohne Resonanz\, schließlich Kurzzeit-Berühmtheit als Fake-Bauern-Literatur-Avantgardist Max Maetz: eine Biographie wie eine ungeschriebene Tragikomödie. Es sprechen und lesen: Florin Mittermayr (Regisseur\, Musik- und Stimmarbeiter) sowie Georg Hofer und Helmut Neundlinger (Herausgeber des Katalogs zur Ausstellung über Karl Wiesinger im Linzer StifterHaus).
URL:https://perinetkeller.at/event/stalin-sex-und-kalte-kriege/
LOCATION:Perinetkeller\, Perinetgasse 1\, Wien\, 1200\, Österreich
END:VEVENT
END:VCALENDAR