BEGIN:VCALENDAR
VERSION:2.0
PRODID:-//Perinetkeller - IODE - ECPv6.15.20//NONSGML v1.0//EN
CALSCALE:GREGORIAN
METHOD:PUBLISH
X-WR-CALNAME:Perinetkeller - IODE
X-ORIGINAL-URL:https://perinetkeller.at
X-WR-CALDESC:Veranstaltungen für Perinetkeller - IODE
REFRESH-INTERVAL;VALUE=DURATION:PT1H
X-Robots-Tag:noindex
X-PUBLISHED-TTL:PT1H
BEGIN:VTIMEZONE
TZID:Europe/Berlin
BEGIN:DAYLIGHT
TZOFFSETFROM:+0100
TZOFFSETTO:+0200
TZNAME:CEST
DTSTART:20190331T010000
END:DAYLIGHT
BEGIN:STANDARD
TZOFFSETFROM:+0200
TZOFFSETTO:+0100
TZNAME:CET
DTSTART:20191027T010000
END:STANDARD
BEGIN:DAYLIGHT
TZOFFSETFROM:+0100
TZOFFSETTO:+0200
TZNAME:CEST
DTSTART:20200329T010000
END:DAYLIGHT
BEGIN:STANDARD
TZOFFSETFROM:+0200
TZOFFSETTO:+0100
TZNAME:CET
DTSTART:20201025T010000
END:STANDARD
BEGIN:DAYLIGHT
TZOFFSETFROM:+0100
TZOFFSETTO:+0200
TZNAME:CEST
DTSTART:20210328T010000
END:DAYLIGHT
BEGIN:STANDARD
TZOFFSETFROM:+0200
TZOFFSETTO:+0100
TZNAME:CET
DTSTART:20211031T010000
END:STANDARD
END:VTIMEZONE
BEGIN:VEVENT
DTSTART;TZID=Europe/Berlin:20200116T193000
DTEND;TZID=Europe/Berlin:20200116T213000
DTSTAMP:20260423T032140
CREATED:20191214T193848Z
LAST-MODIFIED:20191214T193848Z
UID:3190-1579203000-1579210200@perinetkeller.at
SUMMARY:Das Protestlied
DESCRIPTION:Peter Grusch stellt seine Sammlung vor. Laut Wikipedia sind Protestlieder eine junge Liedgattung. Aber nicht immer hat Wikipedia recht. Walter von der Vogelweide sang gegen den Papst. Und Goethe war von den Liedern der französischen Revolution 1789 abgeschreckt: «Ein garstig Lied! Pfui! Ein politisch Lied!» Viele Protestlieder sind noch unbekannt und schlummern in staatlichen Archiven\, wo sie auf Anordnung von Metternich durch Lehrer\, Pfarrer u.a. abgeliefert werden mussten.
URL:https://perinetkeller.at/event/das-protestlied/
LOCATION:Perinetkeller\, Perinetgasse 1\, Wien\, 1200\, Österreich
END:VEVENT
BEGIN:VEVENT
DTSTART;TZID=Europe/Berlin:20200117T193000
DTEND;TZID=Europe/Berlin:20200117T213000
DTSTAMP:20260423T032140
CREATED:20191214T193952Z
LAST-MODIFIED:20200110T185519Z
UID:3192-1579289400-1579296600@perinetkeller.at
SUMMARY:«Sartres geheimster Schüler und die Revolutionärin»
DESCRIPTION:Aus dem Debüt-Roman Pan Papillons liest das wirklich-Quartett – bestehend aus dem Literaten Martin Bachler\, dem Schauspieler Marvin\, der Künstlerin Tintorella Papillon und dem Autor selbst. Eine Reflexion über die Wirklichkeit\, eine Weltreise für Revolutionär*innen\, die Abrechnung mit Faschismus und Neoliberalismus und die Gründung einer Stäätin. Der Mensch ist Freiheit. Und Sartres geschlossene Gesellschaft in einem Kellerverlies mit Osama Bin Laden? Gehört sie zu seinem Sein dazu?\nENTWARNUNG für die werten Gäste der abgesagten Lesung im November: Der Ofen heizt!
URL:https://perinetkeller.at/event/sartres-geheimster-schueler-und-die-revolutionaerin/
LOCATION:Perinetkeller\, Perinetgasse 1\, Wien\, 1200\, Österreich
END:VEVENT
BEGIN:VEVENT
DTSTART;TZID=Europe/Berlin:20200120T193000
DTEND;TZID=Europe/Berlin:20200120T213000
DTSTAMP:20260423T032140
CREATED:20191214T194157Z
LAST-MODIFIED:20191214T194157Z
UID:3195-1579548600-1579555800@perinetkeller.at
SUMMARY:Nawid ist weg
DESCRIPTION:Eine Lesung für einen umherirrenden Freund. Tag für Tag verschwinden Menschen aus unserer Mitte. Menschen\, die versucht haben\, in Österreich ein Leben in Würde und Sicherheit zu führen\, werden in Schubhaft gesperrt und immer öfter auch abgeschoben – sogar nach Afghanistan\, obwohl dort Krieg und Gewalt herrschen. Oder sie flüchten nach Frankreich und Italien weiter.\nErnst Schmiederer präsentiert das »Buch für einen umherirrenden Freund“» sowie die Forderung nach einem Hierbleiberecht – wer seit drei Jahren hier ist\, muss hierbleiben dürfen!
URL:https://perinetkeller.at/event/nawid-ist-weg/
LOCATION:Perinetkeller\, Perinetgasse 1\, Wien\, 1200\, Österreich
END:VEVENT
BEGIN:VEVENT
DTSTART;TZID=Europe/Berlin:20200122T193000
DTEND;TZID=Europe/Berlin:20200122T213000
DTSTAMP:20260423T032140
CREATED:20191214T194315Z
LAST-MODIFIED:20191214T194315Z
UID:3197-1579721400-1579728600@perinetkeller.at
SUMMARY:Wolfgang Glechner liest...
DESCRIPTION:…«Putenwurst\, aber vom Krokodil» und andere Minidramen voller hintergründigem Humor. Er blickt auf eine bunte Bio zurück – Biologiestudent\, Buchhändler\, Volksschullehrer\, Kellner\, Bildender Künstler. Aufgewachsen in Braunau\, stellt Glechner auch einen einer fünf Romane vor: «Niemand ist in Braunau geboren».
URL:https://perinetkeller.at/event/wolfgang-glechner-liest/
LOCATION:Perinetkeller\, Perinetgasse 1\, Wien\, 1200\, Österreich
END:VEVENT
BEGIN:VEVENT
DTSTART;TZID=Europe/Berlin:20200123T193000
DTEND;TZID=Europe/Berlin:20200123T213000
DTSTAMP:20260423T032140
CREATED:20191214T194418Z
LAST-MODIFIED:20191214T194418Z
UID:3199-1579807800-1579815000@perinetkeller.at
SUMMARY:Film und Katastrophe
DESCRIPTION:Film und Katastrophe I – Katastrophenwahrnehmung. Rede\, Film und Diskussion. Eine mehrteilige Reihe widmet sich der filmischen Darstellung von Erdbeben\, Unwettern\, Schiffsunglücken\, Hochwassern\, Murgängen\, Lawinen\, Tornadostürmen\, Verkehrsunfällen\, Hungersnöten\, Seuchen\, Ausrottungen\, Terroranschlägen und Monsterangriffen. Ist die Lust an der Katastrophe eine angemessene Form der Reaktion? Oder ist sie nur eine weitere Äußerung der Ohnmacht und bleibt reine Katharsis? In der an die Filmschau anschließende Diskussion soll über diese Frage und über die Wirkungsmächtigkeit der Katastrophen jenseits ihrer materiellen Schäden gesprochen werden.\nKunst und Katastrophe wird präsentiert von Daniel Brandlechner und Jenny Legenstein.
URL:https://perinetkeller.at/event/film-und-katastrophe/
LOCATION:Perinetkeller\, Perinetgasse 1\, Wien\, 1200\, Österreich
END:VEVENT
END:VCALENDAR