BEGIN:VCALENDAR
VERSION:2.0
PRODID:-//Perinetkeller - IODE - ECPv6.15.20//NONSGML v1.0//EN
CALSCALE:GREGORIAN
METHOD:PUBLISH
X-WR-CALNAME:Perinetkeller - IODE
X-ORIGINAL-URL:https://perinetkeller.at
X-WR-CALDESC:Veranstaltungen für Perinetkeller - IODE
REFRESH-INTERVAL;VALUE=DURATION:PT1H
X-Robots-Tag:noindex
X-PUBLISHED-TTL:PT1H
BEGIN:VTIMEZONE
TZID:Europe/Berlin
BEGIN:DAYLIGHT
TZOFFSETFROM:+0100
TZOFFSETTO:+0200
TZNAME:CEST
DTSTART:20180325T010000
END:DAYLIGHT
BEGIN:STANDARD
TZOFFSETFROM:+0200
TZOFFSETTO:+0100
TZNAME:CET
DTSTART:20181028T010000
END:STANDARD
BEGIN:DAYLIGHT
TZOFFSETFROM:+0100
TZOFFSETTO:+0200
TZNAME:CEST
DTSTART:20190331T010000
END:DAYLIGHT
BEGIN:STANDARD
TZOFFSETFROM:+0200
TZOFFSETTO:+0100
TZNAME:CET
DTSTART:20191027T010000
END:STANDARD
BEGIN:DAYLIGHT
TZOFFSETFROM:+0100
TZOFFSETTO:+0200
TZNAME:CEST
DTSTART:20200329T010000
END:DAYLIGHT
BEGIN:STANDARD
TZOFFSETFROM:+0200
TZOFFSETTO:+0100
TZNAME:CET
DTSTART:20201025T010000
END:STANDARD
END:VTIMEZONE
BEGIN:VEVENT
DTSTART;TZID=Europe/Berlin:20191209T193000
DTEND;TZID=Europe/Berlin:20191209T193000
DTSTAMP:20260423T043554
CREATED:20191119T133356Z
LAST-MODIFIED:20191119T133356Z
UID:3143-1575919800-1575919800@perinetkeller.at
SUMMARY:Vor mir sind Anständige zu beschützen
DESCRIPTION:Günther Geiger stammt aus Dornbirn\, wo er obdachlos war\, und lebt in Wien\, wo er 26 Jahre lang als Herausgeber des hochkulturfeindlichen Literaturmagazins WIENZEILE wirkte. Er war gleichzeitig auch Straßenkolporteur seines Magazins. Sein Freund\, der Musiker Peter Skibar\, trägt Passagen aus Geigers autobiographischer Novelle «Der Abbruch» vor\, die im Dornbirner Randmilieu spielt\, und gibt einige Lieder zum besten.
URL:https://perinetkeller.at/event/vor-mir-sind-anstaendige-zu-beschuetzen/
LOCATION:Perinetkeller\, Perinetgasse 1\, Wien\, 1200\, Österreich
END:VEVENT
BEGIN:VEVENT
DTSTART;TZID=Europe/Berlin:20191212T193000
DTEND;TZID=Europe/Berlin:20191212T193000
DTSTAMP:20260423T043554
CREATED:20191119T133517Z
LAST-MODIFIED:20191119T140456Z
UID:3145-1576179000-1576179000@perinetkeller.at
SUMMARY:Bruno Jasienski – Hommage an ein enfant terrible
DESCRIPTION:Weltbekannt in Krakau und Tadshikistan. Geboren in der Monarchie\, gleich neben Majdanek\, Schulbesuch in Russland\, Bürgerschreck und führender Futurist von Krakau\, dann Kommunist\, dann Mitglied des Obersten Sowjets Tadshikistans\, dann hingerichtet und spät rehabilitiert. Lesung aus Jasienski-Texten (übersetzt von Elisabeth Namdar) und Simultanübersetzung eines Filmausschnitts von «Ein Mensch wechselt seine Haut». \nBruno Jasienski wird präsentiert von Kurt Kostron\, Gerald Mach\, Elisabeth Namdar\, Maren Rahmann und Wladimir Uljew.
URL:https://perinetkeller.at/event/bruno-jasienski-hommage-an-ein-enfant-terrible/
LOCATION:Perinetkeller\, Perinetgasse 1\, Wien\, 1200\, Österreich
END:VEVENT
BEGIN:VEVENT
DTSTART;TZID=Europe/Berlin:20191213T193000
DTEND;TZID=Europe/Berlin:20191213T213000
DTSTAMP:20260423T043554
CREATED:20191108T101449Z
LAST-MODIFIED:20191108T101937Z
UID:3125-1576265400-1576272600@perinetkeller.at
SUMMARY:Jakob Haringer – Lebenskünstler\, Dichter\, Vagabund. Eine Buchvorstellung.
DESCRIPTION:In den zwanziger Jahren lebte Jakob Haringer – er schrieb neben Prosa an die tausend Gedichte – in Bayerisch Gmain\, Bad Reichenhall und Salzburg. Dem Titel seines ersten Gedichtbandes „Hain des Vergessens”\, folgten weitere Veröffentlichungen\, die sogar von Alfred Döblin gelobt wurden. Seinen lockeren Lebenswandel kommentierte ein Reichenhaller Ortsgendarm: „A so a Rotzbua ko do koa Schriftställa sei\, a Schriftställa mus do a Geld habn\, aba der Depp hot koa Geld.” \nDer zu Unrecht weitgehend unbeachtete und unglaublich umtriebige Autor Jakob Haringer führte ein unstetes Vagabundenleben. Berlin und auch Wien waren zeitweise seine Wohnorte. Seine Werke erschienen oft im Eigenverlag\, die Erscheinungsorte waren oft fingiert. Er war ein Schnorrer – König\, Vielreisender\, Verfälscher seines eigenen Lebenslaufs\, genialer Übersetzer und Polemiker. Der Autor Dieter Braeg präsentiert mit seinem Buch „Jakob Haringer – Du bist für keinen Stern\, kein Glück gebron! – Leben\, Prosa&Lyrik“ Lebenslauf und Werk dieses in Vergessenheit geratenen Dichters\, der nach 1933 noch in Ebenau bei Salzburg lebte und später\, 50 Jahre alt\, in der Schweiz starb.
URL:https://perinetkeller.at/event/jakob-haringer-lebenskuenstler-dichter-vagabund-eine-buchvorstellung/
LOCATION:Perinetkeller\, Perinetgasse 1\, Wien\, 1200\, Österreich
END:VEVENT
BEGIN:VEVENT
DTSTART;TZID=Europe/Berlin:20191218T193000
DTEND;TZID=Europe/Berlin:20191218T193000
DTSTAMP:20260423T043554
CREATED:20191119T133638Z
LAST-MODIFIED:20191119T135656Z
UID:3147-1576697400-1576697400@perinetkeller.at
SUMMARY:Gotthard Fellerers TIRADEREIEN – SCHRÄG & GERADE
DESCRIPTION:Der Maler\, Interakt-Künstler\, Musikant\, Publizist\, Zeitungsherausgeber und mit Kunstpreisen überhäufter Perinetkellerfreund ist in den Provinzstädten des Ostens wie St.Pölten\, Wr. Neustadt\, Schwechat\, Wien und Krems bekannt wie falsches Gold (Selbstkategorisierung). Fellerer ist zum zweiten mal im Keller\, und wieder gilt es\, eine neue Ausgabe seines beispiellosen Kunstmagazins BRAVDA zu feiern. Musikerkollege Hans Delanoy hat einschlägige Unterstützung angesagt. \n© Foto Franz Baldauf \, 03.10.2018 \, Wien.
URL:https://perinetkeller.at/event/gotthard-fellerers-tiradereien-schraeg-gerade/
LOCATION:Perinetkeller\, Perinetgasse 1\, Wien\, 1200\, Österreich
END:VEVENT
BEGIN:VEVENT
DTSTART;TZID=Europe/Berlin:20191220T193000
DTEND;TZID=Europe/Berlin:20191220T193000
DTSTAMP:20260423T043554
CREATED:20191119T133755Z
LAST-MODIFIED:20191119T133755Z
UID:3149-1576870200-1576870200@perinetkeller.at
SUMMARY:Cigarettes and Chokolatemilkband
DESCRIPTION:Live Konzert. Das aus Andreas Haidecker (Gitarre)\, Philipp Kienberger (Bass) und Anna Anderluh (Gesang) bestehende\, am liebsten unverstärkt spielende Trio kombiniert spielerisch freie Improvisation und Klassiker der Beatles\, Neil Young\, The Police und Rufus Wainwright. Dazwischen auch einmal ein ungekünstelt\, einfühlsam oder auch eigenwillig gespielter Jazzstandard oder die Bluesklampfn. Ein Angebot\, mit dem IODE-Team den Beginn der kurzen Kellerwinterpause zu feiern. Am 16.1. geht´ s wieder los!
URL:https://perinetkeller.at/event/cigarettes-and-chokolatemilkband/
LOCATION:Perinetkeller\, Perinetgasse 1\, Wien\, 1200\, Österreich
END:VEVENT
END:VCALENDAR