BEGIN:VCALENDAR
VERSION:2.0
PRODID:-//Perinetkeller - IODE - ECPv6.15.20//NONSGML v1.0//EN
CALSCALE:GREGORIAN
METHOD:PUBLISH
X-WR-CALNAME:Perinetkeller - IODE
X-ORIGINAL-URL:https://perinetkeller.at
X-WR-CALDESC:Veranstaltungen für Perinetkeller - IODE
REFRESH-INTERVAL;VALUE=DURATION:PT1H
X-Robots-Tag:noindex
X-PUBLISHED-TTL:PT1H
BEGIN:VTIMEZONE
TZID:Europe/Berlin
BEGIN:DAYLIGHT
TZOFFSETFROM:+0100
TZOFFSETTO:+0200
TZNAME:CEST
DTSTART:20180325T010000
END:DAYLIGHT
BEGIN:STANDARD
TZOFFSETFROM:+0200
TZOFFSETTO:+0100
TZNAME:CET
DTSTART:20181028T010000
END:STANDARD
BEGIN:DAYLIGHT
TZOFFSETFROM:+0100
TZOFFSETTO:+0200
TZNAME:CEST
DTSTART:20190331T010000
END:DAYLIGHT
BEGIN:STANDARD
TZOFFSETFROM:+0200
TZOFFSETTO:+0100
TZNAME:CET
DTSTART:20191027T010000
END:STANDARD
BEGIN:DAYLIGHT
TZOFFSETFROM:+0100
TZOFFSETTO:+0200
TZNAME:CEST
DTSTART:20200329T010000
END:DAYLIGHT
BEGIN:STANDARD
TZOFFSETFROM:+0200
TZOFFSETTO:+0100
TZNAME:CET
DTSTART:20201025T010000
END:STANDARD
END:VTIMEZONE
BEGIN:VEVENT
DTSTART;TZID=Europe/Berlin:20190208T193000
DTEND;TZID=Europe/Berlin:20190208T213000
DTSTAMP:20260425T153920
CREATED:20190118T130421Z
LAST-MODIFIED:20190219T081832Z
UID:2395-1549654200-1549661400@perinetkeller.at
SUMMARY:Die Anarchistin und die Menschenfresser
DESCRIPTION:Schwesterlich geistig verbunden hat sich Eva Geber mit Louise Michel für diesen biografischen Roman\, schwesterlich verbinden will mich auch ich. Mit den beiden Frauen und der Idee hinter dem Kampf\, die bis heute eins zu eins wieder so übernommen werden kann – schließlich kämpfen wir heute wie vor über hundert Jahren schon wieder für den 8 Stunden-Tag\, um nur ein Beispiel zu nennen. \nEine Lesung kann ja nur einen kleinen Einblick schaffen in ein so großes Leben\, wie das von Louise Michel\, aber jede Facette darin ist einen Blick wert! Denn ob als kleines Mädchen mit großem Herz\, als anarchistische Weltreisende in Sachen Menschenrechte oder als Freundin der Kanak in Neukaledonien\, wohin sie in eine Strafkolonie deportiert wurde\, Louise Michel ist stets unbeirrt ihrem Kampf für Gerechtigkeit und ihrer Liebe zu den Menschen gefolgt.\nAußerdem hat mir dieses Buch vor kurzem tatsächlich das Leben gerettet\, aber das ist eine ganz andere Geschichte. \nIch bedanke mich bei Eva Geber für dieses Buch und für die Erlaubnis daraus vorlesen zu dürfen! \nMusikalisch unterstützen wird mich die wunderbare Pianistin Ursula Schwarz.\nNa wenn das nicht Frauen-Power ist\nMargot Hruby
URL:https://perinetkeller.at/event/die-anarchistin-und-die-menschenfresser/
LOCATION:Perinetkeller\, Perinetgasse 1\, Wien\, 1200\, Österreich
END:VEVENT
BEGIN:VEVENT
DTSTART;TZID=Europe/Berlin:20190210T193000
DTEND;TZID=Europe/Berlin:20190210T213000
DTSTAMP:20260425T153920
CREATED:20190118T131126Z
LAST-MODIFIED:20190118T175828Z
UID:2399-1549827000-1549834200@perinetkeller.at
SUMMARY:«Von Graz nach Grinzing – oder Robert Blum im Himmel»
DESCRIPTION:WIEDERHOLUNG! «Von Graz nach Grinzing – oder Robert Blum im Himmel». Nach einem Hörspiel von Gerhard Rühm. Die zweite Produktion von FASTeinTHEATER. Diese Lesetheatergruppierung – künstlerische Leitung: Peter Friedl) – hat im Perinetkeller das Licht der Welt erblickt. Aufführung in (angefragter) Anwesenheit von Gerhard Rühm\, Mitglied der «Wiener Gruppe».
URL:https://perinetkeller.at/event/von-graz-nach-grinzing-oder-robert-blum-im-himmel/
LOCATION:Perinetkeller\, Perinetgasse 1\, Wien\, 1200\, Österreich
END:VEVENT
BEGIN:VEVENT
DTSTART;TZID=Europe/Berlin:20190213T193000
DTEND;TZID=Europe/Berlin:20190213T213000
DTSTAMP:20260425T153920
CREATED:20190118T131724Z
LAST-MODIFIED:20190219T081822Z
UID:2402-1550086200-1550093400@perinetkeller.at
SUMMARY:Irgendwas gibt's immer
DESCRIPTION:Dieses Programm klappt nicht ohne die Mitwirkung der BesucherInnen. Diese sind gebeten\, Objekte mitzubringen\, die durch den Ortswechsel (von der Wohnung in den Perinetkeller) jene Aufmerksamkeit genießen werden\, die sie verdienen. Die BesucherInnen stellen diese Gegenstände für die Performance zur Verfügung und warten gespannt\, was aus ihnen wird. Alles ist erlaubt. In ihrer neuen Performance-Reihe «Irgendwas gibt’s immer» setzt sich Martha Labil mit Gegenständen auseinander und haucht ihnen neues Leben ein. Manches wird entdeckt\, wiedererweckt\, zweckentfremdet\, liebgehabt. Anderes wird übersehen\, liegengelassen\, zerstört\, umgebaut. Weder aus welchen Persönlichkeiten sich ihr Publikum zusammensetzt\, noch welche Gegenstände dieses zur Verfügung stellt\, weiß die Performerin bis kurz vor ihrem Auftritt. Wie im echten Leben.\n«Ohne Garantie auf Erfolg versuche ich bestmöglich zu agieren mit allem\, was gegeben ist. Und dann noch eines drauf setzen»\, sagt die Künstlerin. Martha Labils Auseinandersetzung mit den auf der Bühne versammelten Dingen ist oft schonungslos und radikal. Vielleicht sieht es manchmal so aus\, als würde sie ihr eigenes Leben in Gefahr bringen. Das ist alles Teil der Show. Kein Stein bleibt auf dem anderen. Verständliches wird unverständlich\, Unverständliches plötzlich verständlich\, und ungefährlich Alltägliches wird gefährlich. Dauer der Performance: ca 50min. \nHinweis: Wer mehr von Martha Labil sehen will\, sei auf ihre Varieté-Reihe «Soirée Eléctriqie» in der Arena Bar (1050\, Margaretenstraße 117\, 19:30) verwiesen.\nZusammen mit Silvia Speckenhauser\, und immer wieder auch mit special guests\, gestaltet sie monatlich einen Abend\, der reich an absurd-clownesken Situationen ist\, weil er arm an abgedroschenen Showeffekten ist. Die kommenden Termine: Do 14. 3.\, Do 11. 4. und Do 9. 5.
URL:https://perinetkeller.at/event/irgendwas-gibts-immer/
LOCATION:Perinetkeller\, Perinetgasse 1\, Wien\, 1200\, Österreich
END:VEVENT
BEGIN:VEVENT
DTSTART;TZID=Europe/Berlin:20190218T190000
DTEND;TZID=Europe/Berlin:20190218T210000
DTSTAMP:20260425T153920
CREATED:20190118T132131Z
LAST-MODIFIED:20190118T133729Z
UID:2405-1550516400-1550523600@perinetkeller.at
SUMMARY:Blauer Montag im Vindobona
DESCRIPTION:Als gastronomischer Partner der Wein-Entnazifizierungs-Initiative ABGEZWEIGELT geht dieses Brigittenauer Cafe-Restaurant mit gutem Beispiel voran und kredenzt den führenden österreichischen Rotwein\, der seit 1975 den Namen Zweigelt trägt (eines 1945 wegen Volksverhetzung verurteilten Antisemiten)\, unter dem Namen «Blauer Montag». \nKünstlerisches Programm von Peter Friedl und Maren Rahmann. Patronanz: Lukas Resetarits\, Otto Lechner. Weinverkostung. Achtung! Diese Veranstaltung findet nicht im Perinetkeller\, sondern im Vindobona\, 1200 Wien\, Wallensteinplatz 6 statt.
URL:https://perinetkeller.at/event/blauer-montag-im-vindobona/
LOCATION:Vindobona\, Wallensteinplatz 6\, Wien\, Wien\, 1020\, Österreich
END:VEVENT
BEGIN:VEVENT
DTSTART;TZID=Europe/Berlin:20190225T193000
DTEND;TZID=Europe/Berlin:20190225T213000
DTSTAMP:20260425T153920
CREATED:20190118T133046Z
LAST-MODIFIED:20190219T081815Z
UID:2411-1551123000-1551130200@perinetkeller.at
SUMMARY:Blauer Montag im Perinetkeller
DESCRIPTION:Gute Weine verdienen gute Namen. Ratschlag der Initiative ABGEZWEIGELT. Eingeladen sind alle interessierten WinzerInnen\, GastronomInnen\, WeinhändlerInnen und WeinliebhaberInnen. \nDie Initiative im Internet: www.abgezweigelt.at
URL:https://perinetkeller.at/event/blauer-montag-im-perinetkeller-2/
LOCATION:Perinetkeller\, Perinetgasse 1\, Wien\, 1200\, Österreich
END:VEVENT
END:VCALENDAR