BEGIN:VCALENDAR
VERSION:2.0
PRODID:-//Perinetkeller - IODE - ECPv6.15.20//NONSGML v1.0//EN
CALSCALE:GREGORIAN
METHOD:PUBLISH
X-WR-CALNAME:Perinetkeller - IODE
X-ORIGINAL-URL:https://perinetkeller.at
X-WR-CALDESC:Veranstaltungen für Perinetkeller - IODE
REFRESH-INTERVAL;VALUE=DURATION:PT1H
X-Robots-Tag:noindex
X-PUBLISHED-TTL:PT1H
BEGIN:VTIMEZONE
TZID:Europe/Berlin
BEGIN:DAYLIGHT
TZOFFSETFROM:+0100
TZOFFSETTO:+0200
TZNAME:CEST
DTSTART:20180325T010000
END:DAYLIGHT
BEGIN:STANDARD
TZOFFSETFROM:+0200
TZOFFSETTO:+0100
TZNAME:CET
DTSTART:20181028T010000
END:STANDARD
BEGIN:DAYLIGHT
TZOFFSETFROM:+0100
TZOFFSETTO:+0200
TZNAME:CEST
DTSTART:20190331T010000
END:DAYLIGHT
BEGIN:STANDARD
TZOFFSETFROM:+0200
TZOFFSETTO:+0100
TZNAME:CET
DTSTART:20191027T010000
END:STANDARD
BEGIN:DAYLIGHT
TZOFFSETFROM:+0100
TZOFFSETTO:+0200
TZNAME:CEST
DTSTART:20200329T010000
END:DAYLIGHT
BEGIN:STANDARD
TZOFFSETFROM:+0200
TZOFFSETTO:+0100
TZNAME:CET
DTSTART:20201025T010000
END:STANDARD
END:VTIMEZONE
BEGIN:VEVENT
DTSTART;TZID=Europe/Berlin:20190111T193000
DTEND;TZID=Europe/Berlin:20190111T213000
DTSTAMP:20260425T173545
CREATED:20181218T152217Z
LAST-MODIFIED:20190219T081907Z
UID:2217-1547235000-1547242200@perinetkeller.at
SUMMARY:Austrian Beat » – die Buchpräsentation
DESCRIPTION:Die Anthologie\, herausgegeben von Elias Schneitter und Helmuth Schönauer\, vereint Beiträge von 27 österreichischen Autorinnen und Autoren\, die sich mit der LiteratInnenbewegung der «Beatniks» verbunden fühlen. Mit dabei auch Texte von zu früh gestorbenen Wienerwald-Beatniks wie Joe Berger oder Christian Loidl. Podium: Waltraud Haas\, Heinz D. Heisl\, Elias Schneitter.
URL:https://perinetkeller.at/event/austrian-beat-die-buchpraesentation/
LOCATION:Perinetkeller\, Perinetgasse 1\, Wien\, 1200\, Österreich
END:VEVENT
BEGIN:VEVENT
DTSTART;TZID=Europe/Berlin:20190114T193000
DTEND;TZID=Europe/Berlin:20190114T213000
DTSTAMP:20260425T173545
CREATED:20181218T152336Z
LAST-MODIFIED:20190219T081901Z
UID:2219-1547494200-1547501400@perinetkeller.at
SUMMARY:Über Joe – und über uns
DESCRIPTION:1991 starb der Wiener Boheme-Dichter und Schauspieler Joe Berger an Lungenkrebs. Daniel Böswirth war damit um einen Onkel ärmer\, Stephan Eibel Erzberg um einen Kumpel in Sachen Poesie. Erzberg & Böswirth begeben sich auf Spurensuche\, und alles endet\, wie es angefangen hat: im Sprachgewitter.\nAuch im dritten Jahr seines Bestehens würdigt damit das Institut ohne direkte Eigenschaften das enfant terrible aus Kaltenleutgeben. Dass Joes Geist unter den Gewölben des Perinetkellers schwebt\, halten auch nüchterne KellerbesucherInnen für nicht ganz ausgeschlossen.
URL:https://perinetkeller.at/event/ueber-joe-und-ueber-uns/
LOCATION:Perinetkeller\, Perinetgasse 1\, Wien\, 1200\, Österreich
END:VEVENT
BEGIN:VEVENT
DTSTART;TZID=Europe/Berlin:20190117T193000
DTEND;TZID=Europe/Berlin:20190117T213000
DTSTAMP:20260425T173545
CREATED:20181218T152448Z
LAST-MODIFIED:20190219T081854Z
UID:2221-1547753400-1547760600@perinetkeller.at
SUMMARY:Buchpräsentation: Rudolf Krieger\, «Safa – Ufer oder Sprache» (Gedichte)
DESCRIPTION:Safa ist die Ästhetik des Ankommenden und betrifft alles\, das an einem Ufer oder in der Sprache ankommt\, aber auch wieder weggeschwemmt wird. Rudolf Krieger und Gerhard Schifko lesen aus dem Buch. Highlight ist das Doppel: Die Kunst\, gemeinsam ein unterschiedliches Gedicht vorzutragen.\nRudolf Krieger stellt seine Malerei aus. Er stammt aus den Hügeln der Weststeiermark\, während Dichtergenosse Schifko aus der Medizin und aus der Welt der Oper stammt. Schifko ist auch Mitbegründer der Schauspielgruppe «Ensemble Bacchus».
URL:https://perinetkeller.at/event/buchpraesentation-rudolf-krieger-safa-ufer-oder-sprache-gedichte/
LOCATION:Perinetkeller\, Perinetgasse 1\, Wien\, 1200\, Österreich
END:VEVENT
BEGIN:VEVENT
DTSTART;TZID=Europe/Berlin:20190121T193000
DTEND;TZID=Europe/Berlin:20190121T213000
DTSTAMP:20260425T173545
CREATED:20181218T144529Z
LAST-MODIFIED:20190219T081848Z
UID:2213-1548099000-1548106200@perinetkeller.at
SUMMARY:wolfgang e. eigensinn
DESCRIPTION:1964 in Oberösterreich geboren\, im Salzkammergut aufgewachsen. Lernt H.C. Artmann kennen und pflegt mit Andreas Okopenko gedanklichen Austausch im Briefverkehr. Seit dem 16. Lebensjahr aktiv in der Gestaltung von literarischen Publikationen\, veröffentlicht in verschiedensten Literatur-Zeitschriften und Anthologien\, zwei Kurzgeschichten-Bände\, Herausgeber bzw. Sendegestalter des Fanzines bzw. der Sendung „eigenzine“ auf Okto-TV.
URL:https://perinetkeller.at/event/wolfgang-e-eigensinn/
LOCATION:Perinetkeller\, Perinetgasse 1\, Wien\, 1200\, Österreich
END:VEVENT
BEGIN:VEVENT
DTSTART;TZID=Europe/Berlin:20190126T193000
DTEND;TZID=Europe/Berlin:20190126T213000
DTSTAMP:20260425T173545
CREATED:20181218T152554Z
LAST-MODIFIED:20190219T081840Z
UID:2223-1548531000-1548538200@perinetkeller.at
SUMMARY:11% K.Theater spielt «Völlig losgelöst» von Martin Springer
DESCRIPTION:Die neueste Produktion des Theaterensembles der Straßenzeitung Augustin\, das sich aus Andi Hennefeld\, Traude und Rudi Lehner\, Desiree Bernstein und Strawinsky zusammensetzt. Regisseurin dieses zeitweise ins Absurde gleitenden Stücks\, das einen gewissen Bobby auf der Suche nach Raum und Geborgenheit begleitet\, ist Karoline Zeilinger. Nach der Premiere im November 2018 urteilten viele\, dass – selbst im Vergleich zu den Erfolgsproduktionen «Sauschlachten» von Peter Turrini (2017) und «Der Weltmeister» von Herbert Achternbusch (2018) – der jüngste Wurf der Laientheatergruppe der bisher genialste ist.
URL:https://perinetkeller.at/event/11-k-theater-spielt-voellig-losgeloest-von-martin-springer/
LOCATION:Perinetkeller\, Perinetgasse 1\, Wien\, 1200\, Österreich
END:VEVENT
END:VCALENDAR